BEGIN:VCALENDAR
VERSION:2.0
PRODID:-//DorfFunk SH - ECPv6.15.20//NONSGML v1.0//EN
CALSCALE:GREGORIAN
METHOD:PUBLISH
X-WR-CALNAME:DorfFunk SH
X-ORIGINAL-URL:https://www.sh.digitale-doerfer.de
X-WR-CALDESC:Veranstaltungen im DorfFunk SH
REFRESH-INTERVAL;VALUE=DURATION:PT1H
X-Robots-Tag:noindex
X-PUBLISHED-TTL:PT1H
BEGIN:VTIMEZONE
TZID:Europe/Berlin
BEGIN:DAYLIGHT
TZOFFSETFROM:+0100
TZOFFSETTO:+0200
TZNAME:CEST
DTSTART:20250330T010000
END:DAYLIGHT
BEGIN:STANDARD
TZOFFSETFROM:+0200
TZOFFSETTO:+0100
TZNAME:CET
DTSTART:20251026T010000
END:STANDARD
BEGIN:DAYLIGHT
TZOFFSETFROM:+0100
TZOFFSETTO:+0200
TZNAME:CEST
DTSTART:20260329T010000
END:DAYLIGHT
BEGIN:STANDARD
TZOFFSETFROM:+0200
TZOFFSETTO:+0100
TZNAME:CET
DTSTART:20261025T010000
END:STANDARD
BEGIN:DAYLIGHT
TZOFFSETFROM:+0100
TZOFFSETTO:+0200
TZNAME:CEST
DTSTART:20270328T010000
END:DAYLIGHT
BEGIN:STANDARD
TZOFFSETFROM:+0200
TZOFFSETTO:+0100
TZNAME:CET
DTSTART:20271031T010000
END:STANDARD
END:VTIMEZONE
BEGIN:VEVENT
DTSTART;TZID=Europe/Berlin:20260416T190000
DTEND;TZID=Europe/Berlin:20260416T213000
DTSTAMP:20260423T003923
CREATED:20260414T124523Z
LAST-MODIFIED:20260414T124523Z
UID:64329-1776366000-1776375000@www.sh.digitale-doerfer.de
SUMMARY:Erinnerung zu Sitzungen der Ausschüsse und der Gemeindevertretung der Gemeinde Damp.
DESCRIPTION:Die Gemeindevertretung tagt am 16. April 2026 um 19:00 Uhr in der Außenstelle des Amtes in Vogelsang-Grünholz! \nAnbei erhalten Sie die Tagesordnung zur Information: \n2435139538322_Bekanntmachung der Sitzung Gemeindevertretung Damp am 16042026.pdf2435139538322_Bekanntmachung der Sitzung Gemeindevertretung Damp am 16042026.pdf
URL:https://www.sh.digitale-doerfer.de/event/erinnerung-zu-sitzungen-der-ausschuesse-und-der-gemeindevertretung-der-gemeinde-damp-19/
LOCATION:Amt Schlei-Ostsee Außenstelle Damp\, Auf der Höhe 16\, Damp\, 24351
CATEGORIES:Öffentliche Bekanntmachung
END:VEVENT
BEGIN:VEVENT
DTSTART;TZID=Europe/Berlin:20260416T193000
DTEND;TZID=Europe/Berlin:20260416T223000
DTSTAMP:20260423T003923
CREATED:20260410T150843Z
LAST-MODIFIED:20260412T155210Z
UID:62926-1776367800-1776378600@www.sh.digitale-doerfer.de
SUMMARY:Sitzung der Gemeindevertretung
DESCRIPTION:Wärmeversorgung Kita und Grundschule * Notfallinfopunkt * Sanierung Friedhofswege * Landesweiter Nahverkehrsplan 2027-2031 * Flutlichtanlage \nSitzung der Gemeindevertretung 16-4-2026
URL:https://www.sh.digitale-doerfer.de/event/sitzung-der-gemeindevertretung-2/
LOCATION:Sportheim Fortuna Stampe in Strohbrück\, Mönkbergseck 25A\, Quarnbek\, 24107\, Germany
CATEGORIES:Gemeindevertretung,Öffentliche Bekanntmachung
ATTACH;FMTTYPE=image/png:https://www.sh.digitale-doerfer.de/wp-content/uploads/2026/02/Wappen_klein-1.png
END:VEVENT
BEGIN:VEVENT
DTSTART;TZID=Europe/Berlin:20260417T143000
DTEND;TZID=Europe/Berlin:20260417T170000
DTSTAMP:20260423T003923
CREATED:20260324T184233Z
LAST-MODIFIED:20260324T115655Z
UID:63853-1776436200-1776445200@www.sh.digitale-doerfer.de
SUMMARY:Einweihung Mensa & Spielplatz
DESCRIPTION:Die Gemeinde Gnutz möchte nach Fertigstellung der Kindergarten-Mensa und des Dorfspielplatzes mit allen interessierten Bürgern/+innen gemeinsam feiern:  \nEinweihung Mensa \n \nWir freuen uns auf Euch !
URL:https://www.sh.digitale-doerfer.de/event/einweihung-mensa-spielplatz/
LOCATION:Kindergarten Gnutz\, Dorfstraße 26\, 24622 Gnutz
CATEGORIES:Aus der Gemeinde,Kinder & Jugend
ATTACH;FMTTYPE=image/jpeg:https://www.sh.digitale-doerfer.de/wp-content/uploads/2026/03/Mensa-rohbau.jpg
END:VEVENT
BEGIN:VEVENT
DTSTART;TZID=Europe/Berlin:20260417T180000
DTEND;TZID=Europe/Berlin:20260417T210000
DTSTAMP:20260423T003923
CREATED:20260403T151306Z
LAST-MODIFIED:20260403T151527Z
UID:64111-1776448800-1776459600@www.sh.digitale-doerfer.de
SUMMARY:DorfDialogDinner auf der Bäk
DESCRIPTION:278x200_MHN_Vocer_AZ_2026_Bäk_20260417_NDR2
URL:https://www.sh.digitale-doerfer.de/event/dorfdialogdinner-auf-der-baek/
CATEGORIES:Aus der Gemeinde
ATTACH;FMTTYPE=image/jpeg:https://www.sh.digitale-doerfer.de/wp-content/uploads/2026/01/IMG_5274.jpeg
END:VEVENT
BEGIN:VEVENT
DTSTART;TZID=Europe/Berlin:20260418T170000
DTEND;TZID=Europe/Berlin:20260418T220000
DTSTAMP:20260423T003924
CREATED:20260403T200139Z
LAST-MODIFIED:20260403T200139Z
UID:64114-1776531600-1776549600@www.sh.digitale-doerfer.de
SUMMARY:Einladung zum ersten Kollower Spieletreff
DESCRIPTION:Egal ob Würfel\, kooperativ\, kreativ\, lustig oder traditionell. Kommt vorbei zum Spielen\, Lachen und Ausprobieren. \nJeder spielt worauf er Lust hat\, die Gruppen werden sich finden. Bringt Spiele mit oder nutzt unsere (das Foto zeigt nur eine Auswahl)\, gerne könnt ihr auch hier in den Kommentaren Wünsche äußern\, vielleicht haben ja andere Mitspieler dieses Spiel im Schrank. \nSnacks und Getränke bringt jeder selbst mit. \nEine Anmeldung über StadtLandFunk oder per Mail an lebendigeskollow@gmx.de hilft uns bei der Planung. \nEure Lebendiges Kollow AG
URL:https://www.sh.digitale-doerfer.de/event/einladung-zum-ersten-kollower-spieletreff/
LOCATION:Dorfgemeinschaftshaus Kollow\, Fasanenweg 6\, Kollow\, Schleswig-Holstein\, 21527\, Germany
CATEGORIES:Lebendiges Kollow
ATTACH;FMTTYPE=image/png:https://www.sh.digitale-doerfer.de/wp-content/uploads/2026/04/Bildschirmfoto-vom-2026-04-03-21-55-52.png
END:VEVENT
BEGIN:VEVENT
DTSTART;TZID=Europe/Berlin:20260420T193000
DTEND;TZID=Europe/Berlin:20260420T220000
DTSTAMP:20260423T003924
CREATED:20260413T112313Z
LAST-MODIFIED:20260413T112424Z
UID:64288-1776713400-1776722400@www.sh.digitale-doerfer.de
SUMMARY:Sitzung des Bau- und Wegeausschusses der Gemeinde Fiefbergen am 20.04.2026
DESCRIPTION:Hiermit lädt die Fiefberger Gemeindevertretung herzlich zur Sitzung des\nBau- und Wegeausschusses ein! \nDie Tagesordnung finden sie im Bürgerinfoportal vom Amt Probstei!\nWir freuen uns über zahlreiches Erscheinen!
URL:https://www.sh.digitale-doerfer.de/event/sitzung-des-bau-und-wegeausschusses-der-gemeinde-fiefbergen-am-20-04-2026/
LOCATION:Dorfgemeinschaftshaus Fiefbergen\, St. Florianweg 2\, Fiefbergen\, Schleswig-Holstein\, 24217\, Germany
CATEGORIES:Aus der Gemeinde,Gemeindevertretung
ATTACH;FMTTYPE=image/png:https://www.sh.digitale-doerfer.de/wp-content/uploads/2024/03/Wappen_Fiefbergen2.svg_.png
END:VEVENT
BEGIN:VEVENT
DTSTART;TZID=Europe/Berlin:20260421T190000
DTEND;TZID=Europe/Berlin:20260421T220000
DTSTAMP:20260423T003924
CREATED:20260413T112706Z
LAST-MODIFIED:20260413T112706Z
UID:64290-1776798000-1776808800@www.sh.digitale-doerfer.de
SUMMARY:Sitzung Gemeindevertretung der Gemeinde Fiefbergen am 21.04.2026
DESCRIPTION:Hiermit lädt die Fiefberger Gemeindevertretung herzlich zur Sitzung der Gemeindevertretung ein! \nDie Tagesordnung finden sie im Bürgerinfoportal vom Amt Probstei! \nWir freuen uns über zahlreiches Erscheinen!
URL:https://www.sh.digitale-doerfer.de/event/sitzung-gemeindevertretung-der-gemeinde-fiefbergen-am-21-04-2026/
LOCATION:Dorfgemeinschaftshaus Fiefbergen\, St. Florianweg 2\, Fiefbergen\, Schleswig-Holstein\, 24217\, Germany
CATEGORIES:Aus der Gemeinde,Gemeindevertretung
ATTACH;FMTTYPE=image/png:https://www.sh.digitale-doerfer.de/wp-content/uploads/2024/03/Wappen_Fiefbergen2.svg_.png
END:VEVENT
BEGIN:VEVENT
DTSTART;TZID=Europe/Berlin:20260422T100000
DTEND;TZID=Europe/Berlin:20260422T120000
DTSTAMP:20260423T003924
CREATED:20260331T085404Z
LAST-MODIFIED:20260331T085404Z
UID:63994-1776852000-1776859200@www.sh.digitale-doerfer.de
SUMMARY:Frühlingsfrühstück für Senioren
DESCRIPTION:Frühstück April 2026
URL:https://www.sh.digitale-doerfer.de/event/fruehlingsfruehstueck-fuer-senioren/
LOCATION:Dorfgemeinschaftshaus Bäk\, Am Dorfgemeinschaftshaus 1\, Bäk\, 23909
CATEGORIES:Veranstaltungen
ORGANIZER;CN="Gemeinde B%C3%A4k":MAILTO:info@auf-der-baek.de
END:VEVENT
BEGIN:VEVENT
DTSTART;TZID=Europe/Berlin:20260422T153000
DTEND;TZID=Europe/Berlin:20260422T170000
DTSTAMP:20260423T003924
CREATED:20260417T145315Z
LAST-MODIFIED:20260417T160753Z
UID:64411-1776871800-1776877200@www.sh.digitale-doerfer.de
SUMMARY:Spielplatz-Treff am Mittwoch
DESCRIPTION:Bis zum 1. Juli findet jeden Mittwoch von 15.30 bis 17 Uhr auf dem Spielplatz  „Am Sportplatz“  in Vogelsang-Grünholz für Eltern sowie für kleine und große Kinder der SPIELPLATZ-TREFF statt. \n„Wir treffen und reden gemeinsam über alles\, was Eltern und Kinder bewegt\, heißt es beim Familienzentrum Damp & rundum\, das den Treff organisiert. Ziel sei es\, dass Eltern einander kennenlernen\, sich austauschen und Infos zu Familienfragen und zu Angeboten für Familien bekommen\, während die Kinder spielen. \nAnmeldungen sind bei Wibke Starck unter 0174 244 5004 möglich.
URL:https://www.sh.digitale-doerfer.de/event/spielplatz-treff-am-mittwoch/
LOCATION:Treffpunkt Damp. Am Sportplatz\, Vogelsang-Grünholz\, Am Sportzplatz 8\, Damp\, 24351
CATEGORIES:Veranstaltungen
ATTACH;FMTTYPE=image/jpeg:https://www.sh.digitale-doerfer.de/wp-content/uploads/2026/04/Spielplatz-Treff.jpg
ORGANIZER;CN="Familienzentrum Damp &amp%3B rundum":MAILTO:info@familienzentrum-damp.de
END:VEVENT
BEGIN:VEVENT
DTSTART;TZID=Europe/Berlin:20260422T160000
DTEND;TZID=Europe/Berlin:20260422T173000
DTSTAMP:20260423T003924
CREATED:20260409T072225Z
LAST-MODIFIED:20260402T072625Z
UID:64064-1776873600-1776879000@www.sh.digitale-doerfer.de
SUMMARY:„Vollmachten und Testament – selbstbestimmt vorsorgen“: eine Informationsveranstaltung des Projektes "BesuchPlus"
DESCRIPTION:Das Projekt „BesuchPlus“ lädt zu der kostenfreien Informationsveranstaltung im Bürgerhaus Trappenkamp ein: \n„Vollmachten und Testament – selbstbestimmt vorsorgen“ mit Vorsorgeberaterin Sabrina Geier \nEine Anmeldung ist hilfreich\, spontane Teilnahme ist möglich. \nVA BesuchPlus
URL:https://www.sh.digitale-doerfer.de/event/vollmachten-und-testament-selbstbestimmt-vorsorgen-eine-informationsveranstaltung-des-projektes-besuchplus/
LOCATION:Bürgerhaus Trappenkamp\, Am Markt 3\, Trappenkamp\, 24610\, Germany
CATEGORIES:Veranstaltungen
ATTACH;FMTTYPE=image/jpeg:https://www.sh.digitale-doerfer.de/wp-content/uploads/2026/04/Veranstaltungen-Besuch-scaled.jpg
END:VEVENT
BEGIN:VEVENT
DTSTART;TZID=Europe/Berlin:20260423T193000
DTEND;TZID=Europe/Berlin:20260423T223000
DTSTAMP:20260423T003924
CREATED:20260417T162747Z
LAST-MODIFIED:20260417T162747Z
UID:64415-1776972600-1776983400@www.sh.digitale-doerfer.de
SUMMARY:Gemeinde Neversdorf - Sitzung des Gemeindevertretung am 23.04.2026
DESCRIPTION:Liebe Neversdorfer\, \ndie nächste Sitzung der Gemeindevertretung findet am 23.04.2026 um 19:30 Uhr im Gasthof Waidmann‘s Ruh statt. \nEiner der Tagesordnungspunkte wird die „Beratung und Beschlussfassung über die Inanspruchnahme der Gemeindeöffnungsklausel zur Sicherung von Windenergieflächen gemäß § 245 e Abs. 5 BauGB“ sein. \nBürgerinformationssystem des Amtes Leezen zur aktuellen Sitzung der Gemeindevertretung \nBürgerinformationssystem des Amtes Leezen Startseite \nAndreas Nixdorf – Bürgermeister
URL:https://www.sh.digitale-doerfer.de/event/gemeinde-neversdorf-sitzung-des-gemeindevertretung-am-23-04-2026/
LOCATION:Gasthof Waidmann’s Ruh\, Hauptstraße 69\, Neversdorf\, Schleswig-Holstein\, 23816\, Germany
CATEGORIES:Veranstaltungen
ORGANIZER;CN="Gemeinde Neversdorf":MAILTO:bgm@neversdorf.de
END:VEVENT
BEGIN:VEVENT
DTSTART;TZID=Europe/Berlin:20260424T170000
DTEND;TZID=Europe/Berlin:20260424T200000
DTSTAMP:20260423T003924
CREATED:20260420T124230Z
LAST-MODIFIED:20260420T124230Z
UID:64469-1777050000-1777060800@www.sh.digitale-doerfer.de
SUMMARY:Frühlingsfest mit Bücherregal-Einweihung
DESCRIPTION:Die Strander Bürgerin Heide Ziefuß organisiert im Rahmen zur Eröffnung ihres offenen Bücherregals\, welches zukünftig in ihrem Carport (Am Wald 49\, Strande-Freidorf) aufgebaut sein wird\, ein kleines Frühlingsfest. Am Freitag\, den 24. April können Nachbarn\, Strander Bürger und Interessierte ab 17:00 Uhr in diversen Büchern stöbern\, mit Menschen in Kontakt kommen und Bratwurst sowie Bier genießen. Für das Frühlingsfest\, welches als offenes Buffet angeboten wird\, dürfen gerne kulinarische Dinge von den Gästen beigesteuert werden.
URL:https://www.sh.digitale-doerfer.de/event/fruehlingsfest-mit-buecherregal-einweihung/
LOCATION:Freidorf
CATEGORIES:Veranstaltungen
END:VEVENT
BEGIN:VEVENT
DTSTART;TZID=Europe/Berlin:20260425T100000
DTEND;TZID=Europe/Berlin:20260425T123000
DTSTAMP:20260423T003924
CREATED:20260419T071055Z
LAST-MODIFIED:20260419T071220Z
UID:64436-1777111200-1777120200@www.sh.digitale-doerfer.de
SUMMARY:Gemeinde Neversdorf - Sitzung des Wege- und Umweltausschusses am 25.04.2026
DESCRIPTION:Liebe Neversdorfer\, \nhiermit möchte ich Sie recht herzlich zur nächsten Sitzung unseres Wege- und Umweltausschusses für den 25.04.2026 um 10:00 Uhr einladen. \nDie Einladung können Sie im Internet auf www.neversdorf.de oder im Bürgerinformationssystem einsehen. \nDer Ausschuss startet mit einer Begehung der Neversdorfer Wege und Straßen. Im Anschluss findet die Ausschusssitzung im Gasthof „Waidmann´s Ruh“ in Neversdorf statt. \nAndreas Nixdorf – Bürgermeister
URL:https://www.sh.digitale-doerfer.de/event/gemeinde-neversdorf-sitzung-des-wege-und-umweltausschusses-am-25-04-2026/
LOCATION:Gasthof Waidmann’s Ruh\, Hauptstraße 69\, Neversdorf\, Schleswig-Holstein\, 23816\, Germany
CATEGORIES:Veranstaltungen
ORGANIZER;CN="Gemeinde Neversdorf":MAILTO:bgm@neversdorf.de
END:VEVENT
BEGIN:VEVENT
DTSTART;TZID=Europe/Berlin:20260427T184500
DTEND;TZID=Europe/Berlin:20260427T203000
DTSTAMP:20260423T003924
CREATED:20260421T125003Z
LAST-MODIFIED:20260421T125003Z
UID:64508-1777315500-1777321800@www.sh.digitale-doerfer.de
SUMMARY:Lesung mit Sven Stricker
DESCRIPTION:Lesung mit Sven Stricker \nSörensen geht aufs Haus \nVeränderungen stehen an bei Sörensen\, und Veränderungen sind generell nicht gut. Nachdem er seinen Vater bei sich aufgenommen hat\, taucht überraschend auch noch ein alter Schulfreund Sörensens auf. Genauer gesagt: der einzige Freund\, den Sörensen als Kind hatte … Doch der bringt keine nostalgischen Erinnerungsflüge\, sondern einen Sack voll Probleme mit – denn in seinem Garten werden menschliche Überreste gefunden. Und schon steckt Sörensen in der nächsten Mordermittlung. Für die er dringend seine Kollegin Jenny braucht\, die sich allerdings ebenfalls verändern möchte … \n27. April 2026\, 19 Uhr im Packhaus Tönning \nEinlass: 18:45 Uhr \nEintritt: VVK 12\,00 Euro\, AK 15\,00 Euro \nSven Stricker wurde 1970 in Tönning geboren und wuchs in Mülheim an der Ruhr auf. Er studierte Komparatistik\, Anglistik und Neuere Geschichte. Seit 2001 arbeitet er als freier Wortregisseur\, Bearbeiter und Autor und gewann in dieser Funktion mehrmals den Deutschen Hörbuchpreis. Für seine Sörensen-Romane war Stricker 2017 und 2024 für den Glauser-Preis nominiert. Die Verfilmung von „Sörensen hat Angst“ gewann 2021 den Deutschen Fernsehkrimipreis sowie den österreichischen Fernsehpreis Romy. 2022 wurde Stricker für das Drehbuch mit dem Grimme-Preis ausgezeichnet. Er lebt in Potsdam und hat eine Tochter.
URL:https://www.sh.digitale-doerfer.de/event/lesung-mit-sven-stricker/
LOCATION:Packhaus Tönning\, Am Eiderdeich 18\, Tönning\, Schleswig-Holstein\, 25832
CATEGORIES:Veranstaltungen
ORGANIZER;CN="Stadtb%C3%BCcherei T%C3%B6nning":MAILTO:buecherei@toenning.de
END:VEVENT
BEGIN:VEVENT
DTSTART;TZID=Europe/Berlin:20260428T200000
DTEND;TZID=Europe/Berlin:20260428T213000
DTSTAMP:20260423T003924
CREATED:20260417T191749Z
LAST-MODIFIED:20260417T191749Z
UID:64420-1777406400-1777411800@www.sh.digitale-doerfer.de
SUMMARY:Helferbesprechung zur Vorbereitung des Kinderfestes
DESCRIPTION:Einladung Sitzung 28.04.2026
URL:https://www.sh.digitale-doerfer.de/event/helferbesprechung-zur-vorbereitung-des-kinderfestes/
LOCATION:Dorfgemeinschaftshaus Bäk\, Am Dorfgemeinschaftshaus 1\, Bäk\, 23909
ORGANIZER;CN="Gemeinden B%C3%A4k%2C Mechow%2C R%C3%B6mnitz":MAILTO:info@auf-der-baek.de
END:VEVENT
BEGIN:VEVENT
DTSTART;TZID=Europe/Berlin:20260429T150000
DTEND;TZID=Europe/Berlin:20260429T163000
DTSTAMP:20260423T003924
CREATED:20260421T121957Z
LAST-MODIFIED:20260421T121957Z
UID:64500-1777474800-1777480200@www.sh.digitale-doerfer.de
SUMMARY:Seniorenbeiratssitzung
DESCRIPTION:Tagesordnung der öffentlichen Sitzung des Seniorenbeirates\nam 29. April 2026\, 15:00 Uhr in der AWO\, Yurian-Owens-Straße 10\, 25832 Tönning\n1. Eröffnung\, Begrüßung und Feststellung der Beschlußfähigkeit\n2. Genehmigung des Protokolls vom\n3. Vorstellungen und Nachwahlen der Mitglieder\n4. Bürgerfragestunde\n5. Planung der Aktivitäten für 2026\n6. Verschiedenes\nIngo Kulle\nstellvertretender Vorsitzender des Seniorenbeirates der Stadt Tönning
URL:https://www.sh.digitale-doerfer.de/event/seniorenbeiratssitzung/
LOCATION:AWO\, Yurian-Ovens-Straße 10\, Tönning\, Schleswig-Holstein\, 25832
CATEGORIES:Veranstaltungen
ORGANIZER;CN="Stadt T%C3%B6nning":MAILTO:stadtverwaltung@toenning.de
END:VEVENT
BEGIN:VEVENT
DTSTART;TZID=Europe/Berlin:20260429T153000
DTEND;TZID=Europe/Berlin:20260429T193000
DTSTAMP:20260423T003924
CREATED:20260416T143331Z
LAST-MODIFIED:20260416T143334Z
UID:64381-1777476600-1777491000@www.sh.digitale-doerfer.de
SUMMARY:DRK Blutspende im Gasthof Zur Eiche in Todesfelde
DESCRIPTION:DRK Ortsverein Leezen-Neuengörs e.V.\n\nAm Mittwoch\, 29.04.2026\, 15:30 – 19:30 Uhr \nBlutspende – So geht’s \n\nSie sind mindestens 18 Jahre alt\, haben mehr als 50 kg Körpergewicht und fühlen sich gesund.\nReservieren Sie einen Blutspendetermin\nAm Tag der Blutspende ausreichend essen und vor allem trinken\, mindestens 1\,5 Liter Flüssigkeit sollten es vor der Spende sein.\nMit Ihrem Personalausweis zu Ihrem reservierten Termin erscheinen.\nBlut spenden. Leben retten.\nNach etwa 4 Wochen erhalten Sie postalisch Ihren Blutspendeausweis mit Angabe Ihrer Blutgruppe.\n\nWas nach der Spende bleibt\, ist das großartige Gefühl\, etwas Gutes getan zu haben. \nNoch kein DRK Mitglied? \nDann melden Sie sich gerne bei Frau Ahlers. Tel. 04552 1287
URL:https://www.sh.digitale-doerfer.de/event/drk-blutspende-im-gasthof-zur-eiche-in-todesfelde-2/
LOCATION:Gasthof Zur Eiche\, Dorfstraße 27\, Todesfelde\, Schleswig-Holstein\, 23826
ORGANIZER;CN="DRK Ortsverein Leezen %E2%80%93 Neueng%C3%B6rs e.V.":MAILTO:martina-ahlers@t-online.de
END:VEVENT
BEGIN:VEVENT
DTSTART;TZID=Europe/Berlin:20260430T180000
DTEND;TZID=Europe/Berlin:20260430T233000
DTSTAMP:20260423T003924
CREATED:20260402T103517Z
LAST-MODIFIED:20260402T103809Z
UID:64030-1777572000-1777591800@www.sh.digitale-doerfer.de
SUMMARY:Gnutzer Maifeuer 2026!
DESCRIPTION:Auch in diesem Jahr findet wieder unser Maifeuer in Gnutz statt! \n  \nDiesmal wird der TSV als Ausrichter für einen tollen Abend sorgen: \n \nKommt vorbei und tanzt in den Mai ! \n 
URL:https://www.sh.digitale-doerfer.de/event/gnutzer-maifeuer-2026/
LOCATION:Knöllkoppel\, Dorfstraße (Rodelbahn)\, Gnutz
CATEGORIES:Aus der Gemeinde,Veranstaltungen
ATTACH;FMTTYPE=image/jpeg:https://www.sh.digitale-doerfer.de/wp-content/uploads/2026/04/images-II.jpg
END:VEVENT
BEGIN:VEVENT
DTSTART;TZID=Europe/Berlin:20260430T200000
DTEND;TZID=Europe/Berlin:20260430T233000
DTSTAMP:20260423T003924
CREATED:20260318T094324Z
LAST-MODIFIED:20260318T094648Z
UID:63709-1777579200-1777591800@www.sh.digitale-doerfer.de
SUMMARY:Comedy-Show mit Kay Ray
DESCRIPTION:Donnerstag\, 30.04.2026 \nin der Lounge 210\, Op de Wipp 1\, Bredenbek: \nComedy-Show mit Kabarettist und Entertainer „Kay Ray“. \nEinlass: 19:00 Uhr \nBeginn: 20:00 Uhr \nTicketpreis: 29\,00 €   Abendkasse 32\,00 € \nPräsentiert vom Bredenbeker Umwelt- und Kulturausschuss.
URL:https://www.sh.digitale-doerfer.de/event/comedy-show-mit-kay-ray/
LOCATION:Lounge 210\, Op de Wipp 1\, Bredenbek\, Schleswig-Holstein\, 24796\, Germany
CATEGORIES:Veranstaltungen
ATTACH;FMTTYPE=image/jpeg:https://www.sh.digitale-doerfer.de/wp-content/uploads/2026/03/KayRay-30.04.2026.jpg
END:VEVENT
BEGIN:VEVENT
DTSTART;TZID=Europe/Berlin:20260502T083000
DTEND;TZID=Europe/Berlin:20260502T180000
DTSTAMP:20260423T003924
CREATED:20260321T083547Z
LAST-MODIFIED:20260321T083547Z
UID:63785-1777710600-1777744800@www.sh.digitale-doerfer.de
SUMMARY:Jahresausflug Arbeitskreis Geschichte
DESCRIPTION:Screenshot
URL:https://www.sh.digitale-doerfer.de/event/jahresausflug-arbeitskreis-geschichte/
CATEGORIES:Veranstaltungen
END:VEVENT
BEGIN:VEVENT
DTSTART;TZID=Europe/Berlin:20260502T190000
DTEND;TZID=Europe/Berlin:20260502T233000
DTSTAMP:20260423T003924
CREATED:20260318T095435Z
LAST-MODIFIED:20260318T095435Z
UID:63717-1777748400-1777764600@www.sh.digitale-doerfer.de
SUMMARY:Musik-Festival "Kronsburg steht Kopf"
DESCRIPTION:Samstag\, 02.05.2026 \nin Bredenbek OT Kronsburg: \n„Kronsburg steht Kopf“ – Live-Musik in drei Locations \nProgramm: \n19:30 Uhr Open Air Fläche: Ingo and Friends \n20:00 Uhr Vereinsheim Good Boys: Steff’n’Roll \n22:00 Uhr Lounge 210: Disco mit den Nordbrücken \nEinlass: 19:00 Uhr \nTicketpreis: VVK 10\,00 € zzgl. 1\,00 VVK-Gebühr \nVVK-Stellen: Edeka Scheller Bredenbek\, Edeka Hoof Osterrönfeld\, Edeka Schmoock Felde\, Buchhandlung Liesegang Rendsburg \nPräsentiert vom Bredenbeker Umwelt- und Kulturausschuss
URL:https://www.sh.digitale-doerfer.de/event/musik-festival-kronsburg-steht-kopf/
LOCATION:Kronsburg\, Op de Wipp 1\, Bredenbek\, Schleswig-Holstein\, 24796\, Germany
CATEGORIES:Veranstaltungen
ATTACH;FMTTYPE=image/jpeg:https://www.sh.digitale-doerfer.de/wp-content/uploads/2026/03/Kronsburg-steht-Kopf-02.05.2026.jpg
END:VEVENT
BEGIN:VEVENT
DTSTART;TZID=Europe/Berlin:20260505T190000
DTEND;TZID=Europe/Berlin:20260505T210000
DTSTAMP:20260423T003924
CREATED:20260421T190538Z
LAST-MODIFIED:20260421T193730Z
UID:64513-1778007600-1778014800@www.sh.digitale-doerfer.de
SUMMARY:Benefiz-Konzert für die Grund- und Gemeinschaftsschule Tellingstedt
DESCRIPTION:Mit dem St. Martini-Orchester – Genießen Sie die musikalische Rundreise mit den tollen Musikern!
URL:https://www.sh.digitale-doerfer.de/event/benefiz-konzert-fuer-die-grund-und-gemeinschaftsschule-tellingstedt/
LOCATION:GGS Tellingstedt – Multifunktionsraum – Gebäude 1
ATTACH;FMTTYPE=image/png:https://www.sh.digitale-doerfer.de/wp-content/uploads/2023/11/Bildschirmfoto-2023-11-05-um-16.48.16.png
END:VEVENT
BEGIN:VEVENT
DTSTART;TZID=Europe/Berlin:20260530T140000
DTEND;TZID=Europe/Berlin:20260530T180000
DTSTAMP:20260423T003924
CREATED:20260331T085818Z
LAST-MODIFIED:20260331T085818Z
UID:63996-1780149600-1780164000@www.sh.digitale-doerfer.de
SUMMARY:Kinderfest Bäk-Mechow-Römnitz
DESCRIPTION:Einladung Kinderfest Mai 2026Anmeldung_2026_final_v2Anmeldung_2026_druck
URL:https://www.sh.digitale-doerfer.de/event/kinderfest-baek-mechow-roemnitz-3/
LOCATION:Dorfgemeinschaftshaus Bäk\, Am Dorfgemeinschaftshaus 1\, Bäk\, 23909
ORGANIZER;CN="Gemeinden B%C3%A4k%2C Mechow%2C R%C3%B6mnitz":MAILTO:info@auf-der-baek.de
END:VEVENT
BEGIN:VEVENT
DTSTART;TZID=Europe/Berlin:20260704T083000
DTEND;TZID=Europe/Berlin:20260704T180000
DTSTAMP:20260423T003924
CREATED:20260421T185941Z
LAST-MODIFIED:20260421T194005Z
UID:64510-1783153800-1783188000@www.sh.digitale-doerfer.de
SUMMARY:Ausflug zur Tolk-Schau mit Euren Gemeinden Hövede\, Tellingstedt und Westerborstel
DESCRIPTION:Es wird bestimmt ein unvergesslicher Tag im Familien-Freizeitpark Tolk-Schau!
URL:https://www.sh.digitale-doerfer.de/event/ausflug-zur-tolk-schau-mit-euren-gemeinden-hoevede-tellingstedt-und-westerborstel-2/
CATEGORIES:Aus der Gemeinde
ATTACH;FMTTYPE=image/png:https://www.sh.digitale-doerfer.de/wp-content/uploads/2023/06/Tolk-Bildschirmfoto-2022-07-05-um-09.10.48.png
END:VEVENT
BEGIN:VEVENT
DTSTART;VALUE=DATE:20260803
DTEND;VALUE=DATE:20260809
DTSTAMP:20260423T003924
CREATED:20260213T163247Z
LAST-MODIFIED:20260213T174922Z
UID:62693-1785715200-1786233599@www.sh.digitale-doerfer.de
SUMMARY:Fußballcamp SG BorKum im August
DESCRIPTION:Der Kummerfelder Sv und die SG Borkum\, veranstaltet zum ersten Mal in der Vereinsgeschichte in der Zeit vom 03.08. – 08.08.2026 ein eigenes Fußballcamp in Kummerfeld!  Die Zielgruppe sind Mädchen und Jungen im Alter von 6-13 Jahren (Jahrgang 2020 – 2013)  Das Fußballcamp für Kids ist der perfekte Ort für junge Spielerinnen und Spieler\, die Spaß am Kicken haben und ihre Fähigkeiten weiterentwickeln möchten. \nANKO Planen Fußballcamp SG BorKum
URL:https://www.sh.digitale-doerfer.de/event/fussballcamp-sg-borkum-im-august/
LOCATION:Kummerfeld\, Kummerfeld\, Germany
CATEGORIES:Kinder & Jugend
END:VEVENT
BEGIN:VEVENT
DTSTART;TZID=Europe/Berlin:20260926T103000
DTEND;TZID=Europe/Berlin:20260926T123000
DTSTAMP:20260423T003924
CREATED:20260304T165115Z
LAST-MODIFIED:20260304T165357Z
UID:63261-1790418600-1790425800@www.sh.digitale-doerfer.de
SUMMARY:Ankunft u. Abnahme der Seifenkisten
DESCRIPTION:
URL:https://www.sh.digitale-doerfer.de/event/ankunft-u-abnahme-der-seifenkisten/
LOCATION:Festwiese Ecke Eichenweg/Holzschicht\, 54°34'07.1"N 9°57'34.7"E\, Vogelsang-Grünholz\, Schleswig-Holstein\, 24351\, Germany
CATEGORIES:Veranstaltungen
END:VEVENT
BEGIN:VEVENT
DTSTART;TZID=Europe/Berlin:20260926T130000
DTEND;TZID=Europe/Berlin:20260926T160000
DTSTAMP:20260423T003924
CREATED:20260304T170002Z
LAST-MODIFIED:20260304T170002Z
UID:63264-1790427600-1790438400@www.sh.digitale-doerfer.de
SUMMARY:Beginn Seifenkistenrennen
DESCRIPTION:
URL:https://www.sh.digitale-doerfer.de/event/beginn-seifenkistenrennen/
LOCATION:Festwiese Ecke Eichenweg/Holzschicht\, 54°34'07.1"N 9°57'34.7"E\, Vogelsang-Grünholz\, Schleswig-Holstein\, 24351\, Germany
CATEGORIES:Veranstaltungen
END:VEVENT
END:VCALENDAR