BEGIN:VCALENDAR
VERSION:2.0
PRODID:-//DorfFunk SH - ECPv6.15.20//NONSGML v1.0//EN
CALSCALE:GREGORIAN
METHOD:PUBLISH
X-WR-CALNAME:DorfFunk SH
X-ORIGINAL-URL:https://www.sh.digitale-doerfer.de
X-WR-CALDESC:Veranstaltungen im DorfFunk SH
REFRESH-INTERVAL;VALUE=DURATION:PT1H
X-Robots-Tag:noindex
X-PUBLISHED-TTL:PT1H
BEGIN:VTIMEZONE
TZID:Europe/Berlin
BEGIN:DAYLIGHT
TZOFFSETFROM:+0100
TZOFFSETTO:+0200
TZNAME:CEST
DTSTART:20230326T010000
END:DAYLIGHT
BEGIN:STANDARD
TZOFFSETFROM:+0200
TZOFFSETTO:+0100
TZNAME:CET
DTSTART:20231029T010000
END:STANDARD
BEGIN:DAYLIGHT
TZOFFSETFROM:+0100
TZOFFSETTO:+0200
TZNAME:CEST
DTSTART:20240331T010000
END:DAYLIGHT
BEGIN:STANDARD
TZOFFSETFROM:+0200
TZOFFSETTO:+0100
TZNAME:CET
DTSTART:20241027T010000
END:STANDARD
BEGIN:DAYLIGHT
TZOFFSETFROM:+0100
TZOFFSETTO:+0200
TZNAME:CEST
DTSTART:20250330T010000
END:DAYLIGHT
BEGIN:STANDARD
TZOFFSETFROM:+0200
TZOFFSETTO:+0100
TZNAME:CET
DTSTART:20251026T010000
END:STANDARD
END:VTIMEZONE
BEGIN:VEVENT
DTSTART;TZID=Europe/Berlin:20240623T120000
DTEND;TZID=Europe/Berlin:20240623T170000
DTSTAMP:20260419T152835
CREATED:20240528T094639Z
LAST-MODIFIED:20240528T094639Z
UID:42710-1719144000-1719162000@www.sh.digitale-doerfer.de
SUMMARY:Einladung zum Autotreffen in Tellingstedt
DESCRIPTION:Die Veranstalter von ORGIN freuen sich sehr auf Ihren Besuch! Für Ihr leibliches Wohl ist bestens gesorgt!
URL:https://www.sh.digitale-doerfer.de/event/einladung-zum-autotreffen-in-tellingstedt/
LOCATION:Markthalle Tellingstedt
END:VEVENT
BEGIN:VEVENT
DTSTART;TZID=Europe/Berlin:20240622T180000
DTEND;TZID=Europe/Berlin:20240622T200000
DTSTAMP:20260419T152835
CREATED:20240611T143832Z
LAST-MODIFIED:20240611T143832Z
UID:43191-1719079200-1719086400@www.sh.digitale-doerfer.de
SUMMARY:Mega-SUP-Challenge beim Sommerfest in Groß Wittensee !
DESCRIPTION:Erlebe den Sommer in Groß Wittensee auf eine ganz besondere Weise! Wir laden dich herzlich ein zur Mega-SUP-Challenge – ein Event\, bei dem Spaß und Teamgeist im Vordergrund stehen. Egal ob jung oder alt\, ob du von der Feuerwehr oder dem Segelverein kommst\, ob du mit deinen Freunden aus der Schule oder Arbeit teilnimmst – jeder ist willkommen! \nWas ist die Mega-SUP-Challenge? \nStell dir vor: Große Stand-Up-Paddleboards\, auf denen mehrere Personen gleichzeitig stehen können. Bei unserer Fun-Challenge treten 6er-Teams gegeneinander an und kämpfen im K.O.-System um den Sieg. Das sorgt für jede Menge Spaß und Freude! \nWarum solltest du teilnehmen? \n\nSpaß und Unterhaltung: Erlebe einen unvergesslichen Abend mit jeder Menge Action und Lachen.\nGemeinschaft: Genieße die Atmosphäre des Sommerfestes mit guter Laune\, gutem Wetter und toller Musik.\nFür jedermann: Egal ob Anfänger oder Profi\, jeder kann mitmachen und Teil dieser tollen Erfahrung werden.\n\nAnmeldung \nUm an der Mega-SUP-Challenge teilzunehmen\, melde dich bitte vorab an. Sichere dir und deinem Team einen Platz und seid dabei\, wenn es heißt: Auf die Boards\, fertig\, los! \nWir freuen uns auf deine Teilnahme und darauf\, gemeinsam mit dir einen fantastischen Sommerabend zu verbringen. Lass uns zusammen Spaß haben und den Sommer in Groß Wittensee feiern! \nMelde dich jetzt an und sei Teil der Mega-SUP-Challenge! \nHier anmelden: \nhttps://form.campai.com/i8PyQiFZBeR
URL:https://www.sh.digitale-doerfer.de/event/mega-sup-challenge-beim-sommerfest-in-gross-wittensee/
LOCATION:Seegartengelände Groß Wittensee\, Dorfstr. 49\, Groß Wittensee\, Schleswig-Holstein\, 24361\, Deutschland
END:VEVENT
BEGIN:VEVENT
DTSTART;TZID=Europe/Berlin:20240622T140000
DTEND;TZID=Europe/Berlin:20240623T010000
DTSTAMP:20260419T152835
CREATED:20240528T112656Z
LAST-MODIFIED:20240528T112656Z
UID:42717-1719064800-1719104400@www.sh.digitale-doerfer.de
SUMMARY:2. Auflage der Biergartenparty
DESCRIPTION:Liebe Tellingstedter und Freunde\, \ndas Volksfestkomitee Tellingstedt lädt Euch herzlich zur zweiten Biergartenparty ein! \nFür Jung und Alt gibt es viel zu entdecken: Genießt köstliche Getränke\, leckere Snacks und stimmungsvolle Musik in gemütlicher Biergartenatmosphäre. \nWir freuen uns auf Euer Kommen! \n  \n  \n 
URL:https://www.sh.digitale-doerfer.de/event/2-auflage-der-biergartenparty/
LOCATION:Parkplatz von Laue Festgarderobe\, Rendsburger Straße 51\, 25782 Tellingstedt\, Rendsburger Straße 51\, Tellingstedt\, 25782\, Deutschland
ATTACH;FMTTYPE=image/png:https://www.sh.digitale-doerfer.de/wp-content/uploads/2024/05/Biergartenparty-Foto.png
END:VEVENT
BEGIN:VEVENT
DTSTART;TZID=Europe/Berlin:20240622T120000
DTEND;TZID=Europe/Berlin:20240622T220000
DTSTAMP:20260419T152835
CREATED:20240521T075322Z
LAST-MODIFIED:20240521T075322Z
UID:42478-1719057600-1719093600@www.sh.digitale-doerfer.de
SUMMARY:Großes Sommerfest in Groß Wittensee
DESCRIPTION:
URL:https://www.sh.digitale-doerfer.de/event/grosses-sommerfest-in-gross-wittensee/
LOCATION:Seegartengelände Groß Wittensee\, Dorfstr. 49\, Groß Wittensee\, Schleswig-Holstein\, 24361\, Deutschland
ATTACH;FMTTYPE=image/jpeg:https://www.sh.digitale-doerfer.de/wp-content/uploads/2024/05/Sommerfest2-1-scaled.jpg
END:VEVENT
BEGIN:VEVENT
DTSTART;TZID=Europe/Berlin:20240616T100000
DTEND;TZID=Europe/Berlin:20240616T110000
DTSTAMP:20260419T152835
CREATED:20240523T142851Z
LAST-MODIFIED:20240523T142851Z
UID:42602-1718532000-1718535600@www.sh.digitale-doerfer.de
SUMMARY:Plattdeutscher Gottesdienst | Dorffest Boren
DESCRIPTION:Das Dorffest endet mit einem besinnlichen Programmpunkt – einem plattdeutschen Gottesdienst um 10:00 Uhr in der St. Marien Kirche.
URL:https://www.sh.digitale-doerfer.de/event/plattdeutscher-gottesdienst-dorffest-boren/
LOCATION:St. Marien-Kirche Boren\, Schulstraße 9\, Boren\, 24392\, Deutschland
ATTACH;FMTTYPE=image/jpeg:https://www.sh.digitale-doerfer.de/wp-content/uploads/2024/05/Bildschirmfoto-2024-05-23-um-13.59.33.jpg
END:VEVENT
BEGIN:VEVENT
DTSTART;TZID=Europe/Berlin:20240615T140000
DTEND;TZID=Europe/Berlin:20240615T230000
DTSTAMP:20260419T152835
CREATED:20240524T065543Z
LAST-MODIFIED:20240524T065543Z
UID:42599-1718460000-1718492400@www.sh.digitale-doerfer.de
SUMMARY:Spiel & Spaß für Familien und Zeltfest | Dorffest Boren
DESCRIPTION:Von 14:00 bis 16:00 Uhr heißt es Spiel und Spaß für die ganze Familie! Auf der bunten Spielwiese am Kindergarten können Klein und Groß ihr Geschick bei spannenden Spielen unter Beweis stellen. Neben einer Kistenrollbahn\, wird es auch eine Feuerwehrfahrzeug-Ausstellung geben. Der DRK und der Förderverein der Kita bieten ein Kaffee- und Küchenbuffet an.\n\nAb 19:00 Uhr wird dann das Festzelt am Sportplatz zur Tanzfläche\, begleitet von mitreißender Musik eines DJs. Ein Imbisswagen sorgt für das leibliche Wohl. Mitfiebern heißt es bei der Siegerehrung und der Dorfrallye.
URL:https://www.sh.digitale-doerfer.de/event/spiel-spass-fuer-familien-und-zeltfest-dorffest-boren/
LOCATION:Sportplatz Boren
ATTACH;FMTTYPE=image/jpeg:https://www.sh.digitale-doerfer.de/wp-content/uploads/2024/05/Bildschirmfoto-2024-05-23-um-13.59.22.jpg
END:VEVENT
BEGIN:VEVENT
DTSTART;TZID=Europe/Berlin:20240615T140000
DTEND;TZID=Europe/Berlin:20240615T180000
DTSTAMP:20260419T152835
CREATED:20240307T154236Z
LAST-MODIFIED:20240307T154236Z
UID:41068-1718460000-1718474400@www.sh.digitale-doerfer.de
SUMMARY:Volkshochschulen - Große Sternfahrt mit dem Fahrrad nach Heide
DESCRIPTION:Auch die Volkshochschule Tellingstedt-Hennstedt nimmt an der großen Sternfahrt teil und jeder ist herzlich dazu eingeladen.
URL:https://www.sh.digitale-doerfer.de/event/volkshochschulen-grosse-sternfahrt-mit-dem-fahrrad-nach-heide/
ATTACH;FMTTYPE=image/png:https://www.sh.digitale-doerfer.de/wp-content/uploads/2024/03/Bildschirmfoto-2024-03-06-um-17.21.54.png
END:VEVENT
BEGIN:VEVENT
DTSTART;TZID=Europe/Berlin:20240615T090000
DTEND;TZID=Europe/Berlin:20240616T180000
DTSTAMP:20260419T152835
CREATED:20240610T072156Z
LAST-MODIFIED:20240610T072156Z
UID:43117-1718442000-1718560800@www.sh.digitale-doerfer.de
SUMMARY:Offener Garten in Gnutz
DESCRIPTION:Hans Rüschmann öffnet wieder für 2 Tage seinen prächtigen Garten! \nAm kommenden Samstag und Sonntag kann man sich jeweils von 09:00 – 18:00 Uhr in dem Privatgarten umschauen\, nette Gespräche führen und/oder sich einfach inspirieren lassen. \nHans Rüschmann freut sich auf Euch! \n \nNatürlich darf ein Tässchen Kaffee und ein Stück Kuchen zu einem gemütlichen Tag nicht fehlen 😉 Dafür sorgen „de swatten Gnutzer“   \n \n  \nEinfach vorbeikommen!
URL:https://www.sh.digitale-doerfer.de/event/offener-garten-in-gnutz/
LOCATION:Garten Hans Rüschmann\, Itzehoer Str. 34\, 24622 Gnutz
ATTACH;FMTTYPE=image/jpeg:https://www.sh.digitale-doerfer.de/wp-content/uploads/2024/06/sprudelstein-gross.jpg
END:VEVENT
BEGIN:VEVENT
DTSTART;VALUE=DATE:20240615
DTEND;VALUE=DATE:20240616
DTSTAMP:20260419T152835
CREATED:20240521T061158Z
LAST-MODIFIED:20240521T061158Z
UID:42468-1718409600-1718495999@www.sh.digitale-doerfer.de
SUMMARY:Gildefest der Wittenseer Sturmgilde
DESCRIPTION:Am Sonnabend\, den 15. Juni 2024 findet unser traditionelles Gildefest statt. \n \nDas Programm: \n\n09:00 Gildeumzug ab Hotel Wittensee durch das Dorf mit Feuerwehrorchester Borgstedt\n13.30 Königsschießen\n15.00 großes Kinderprogramm\nabends Krönung des neuen Königspaares\n\nWir hoffen auf schönes Wetter\, rege Beteiligung und einen tollen Gildetag!
URL:https://www.sh.digitale-doerfer.de/event/gildefest-der-wittenseer-sturmgilde/
LOCATION:Schützenhof Groß Wittensee\, Rendsburger Str. 2\, Groß Wittensee\, 24361\, Deutschland
ATTACH;FMTTYPE=image/jpeg:https://www.sh.digitale-doerfer.de/wp-content/uploads/2024/05/Gildestein.jpg
END:VEVENT
BEGIN:VEVENT
DTSTART;TZID=Europe/Berlin:20240614T190000
DTEND;TZID=Europe/Berlin:20240614T230000
DTSTAMP:20260419T152835
CREATED:20240524T065526Z
LAST-MODIFIED:20240524T065526Z
UID:42595-1718391600-1718406000@www.sh.digitale-doerfer.de
SUMMARY:Feuerwehr-Wettbewerb & Public-Viewing | Dorffest Boren
DESCRIPTION:Ab 19:00 Uhr stehen Action und Spannung auf dem Programm. Auf dem Sportplatz findet der Feuerwehr-Wettbewerb statt\, begleitet von Verpflegung und Getränken sowohl auf dem Sportplatz als auch im Festzelt. Ab 21 Uhr\, wenn die deutsche Nationalelf ihr erstes EM-Spiel bestreitet\, wird herzlich zum Public-Viewing ins Feuerwehrhaus eingeladen.
URL:https://www.sh.digitale-doerfer.de/event/feuerwehr-wettbewerb-public-viewing-dorffest-boren/
LOCATION:Feuerwehrgerätehaus\, Boren\, Schulstraße 9\, Boren\, 24392\, Deutschland
ATTACH;FMTTYPE=image/jpeg:https://www.sh.digitale-doerfer.de/wp-content/uploads/2024/05/Bildschirmfoto-2024-05-23-um-13.59.10.jpg
END:VEVENT
BEGIN:VEVENT
DTSTART;TZID=Europe/Berlin:20240613T180000
DTEND;TZID=Europe/Berlin:20240613T210000
DTSTAMP:20260419T152835
CREATED:20240523T143004Z
LAST-MODIFIED:20240523T143004Z
UID:42591-1718301600-1718312400@www.sh.digitale-doerfer.de
SUMMARY:Dorf-Picknick „Boren isst Zusammen“ | Dorffest Boren
DESCRIPTION:Am Donnerstag sind alle eingeladen\, mit gefüllten Picknickkorb zum Sportplatz Boren zu kommen. Dort sind dann Sitzmöglichkeiten und Tische\, aber auch Platz für Picknickdecken u.ä. bereit\, an denen sich jeder und jede niederlassen kann. Im mitgebrachten Picknickkorb sollte sich folgendes befinden: das eigene Essen\, Teller oder Brett\, Besteck sowie Glas oder Tasse und evtl. eine Decke oder Sitzgelegenheiten.\nGetränke stehen gegen Spende bereit.\nUm 18 Uhr\, wenn sich alle gemütlich niedergelassen haben\, gibt es eine kleine Begrüßung und dann heißt es: „Gemeinsam schmeckt‘s am besten !“\nEs gibt die Möglichkeit im Anschluss noch gemeinsam zu spielen. Dazu kann jeder Gesellschafts- oder Rasenspiele mitbringen.\nBei schlechtem Wetter findet das Picknick im Festzelt statt. Für Nachfragen steht Anna-Sophie Bade (Tel.: 0157-50391605) zur Verfügung.
URL:https://www.sh.digitale-doerfer.de/event/dorf-picknick-boren-isst-zusammen-dorffest-boren/
LOCATION:Sportplatz Boren
ATTACH;FMTTYPE=image/jpeg:https://www.sh.digitale-doerfer.de/wp-content/uploads/2024/05/Bildschirmfoto-2024-05-23-um-13.59.00.jpg
END:VEVENT
BEGIN:VEVENT
DTSTART;TZID=Europe/Berlin:20240612T190000
DTEND;TZID=Europe/Berlin:20240612T210000
DTSTAMP:20260419T152835
CREATED:20240523T142945Z
LAST-MODIFIED:20240523T142945Z
UID:42588-1718218800-1718226000@www.sh.digitale-doerfer.de
SUMMARY:Mitsing-Konzert | Dorffest Boren
DESCRIPTION:Der Auftakt zum Dorffest ist ein Mit-Sing-Event in der Borner St. Marien Kirche um 19 Uhr. Der Popkantor Patrick Zindorf bringt eine große Auswahl der größten Hits der letzten Jahrzehnte aus Pop\, Rock und Klassikern mit. Das offene Gesangsevent lädt ausnahmslos jede und jeden zum Mitsingen ein. Gesangskenntnisse sind nicht erforderlich\, viel mehr steht der Spaß und die Freude am Singen im Vordergrund. Der Abend soll bei einem gemütlichen Beisammensein im Festzelt ausklingen.
URL:https://www.sh.digitale-doerfer.de/event/mitsing-konzert-dorffest-boren/
LOCATION:St. Marien-Kirche Boren\, Schulstraße 9\, Boren\, 24392\, Deutschland
ATTACH;FMTTYPE=image/jpeg:https://www.sh.digitale-doerfer.de/wp-content/uploads/2024/05/Bildschirmfoto-2024-05-23-um-13.58.55.jpg
END:VEVENT
BEGIN:VEVENT
DTSTART;TZID=Europe/Berlin:20240611T193000
DTEND;TZID=Europe/Berlin:20240611T210000
DTSTAMP:20260419T152835
CREATED:20240604T071431Z
LAST-MODIFIED:20240604T071431Z
UID:42929-1718134200-1718139600@www.sh.digitale-doerfer.de
SUMMARY:Einladung zur Sitzung des Umwelt- und Energieausschusses der Gemeinde Tellingstedt
DESCRIPTION:Tagesordnung: \nöffentlich\n1. Einwohnerfragestunde\n2. Niederschrift Nr. 4 der letzten Sitzung vom 30.01.2024\n3. Mitteilungen\n4. Rückblick Umwelttag 09.03.2024\n5. Bericht des Ausschussvorsitzenden über die Konferenz der SH Netz AG\n„Wärmewende vor Ort“ am 24.04.2024\n6. Eingaben und Anfragen \nvoraussichtlich nicht öffentlich\n7. Erstellung eines Sanierungskonzeptes \nöffentlich\n8. Bekanntgabe der im nicht öffentlichen Sitzungsteil gefassten Beschlüsse \nMit freundlichen Grüßen \ngez. Marcus Alexander Rolfs \nDer Ausschussvorsitzende
URL:https://www.sh.digitale-doerfer.de/event/einladung-zur-sitzung-des-umwelt-und-energieausschusses-der-gemeinde-tellingstedt-3/
LOCATION:Feuerwehrgerätehaus Tellingstedt
ATTACH;FMTTYPE=image/png:https://www.sh.digitale-doerfer.de/wp-content/uploads/2022/08/Wappen-von-Tellingstedt-1.png
END:VEVENT
BEGIN:VEVENT
DTSTART;TZID=Europe/Berlin:20240609T100000
DTEND;TZID=Europe/Berlin:20240609T110000
DTSTAMP:20260419T152835
CREATED:20240603T083216Z
LAST-MODIFIED:20240603T083218Z
UID:42858-1717927200-1717930800@www.sh.digitale-doerfer.de
SUMMARY:Der Projektchor "Sommerkids" gestaltet musikalisch den Gottesdienst in der Kapelle Groß Wittensee mit
DESCRIPTION:
URL:https://www.sh.digitale-doerfer.de/event/der-projektchor-sommerkids-gestaltet-musikalisch-den-gottesdienst-in-der-kapelle-gross-wittensee-mit/
LOCATION:Kapelle Groß Wittensee\, Lehmberg 19\, Groß Wittensee\, Schleswig-Holstein\, 24361\, Deutschland
END:VEVENT
BEGIN:VEVENT
DTSTART;TZID=Europe/Berlin:20240607T080000
DTEND;TZID=Europe/Berlin:20240607T170000
DTSTAMP:20260419T152835
CREATED:20240607T112558Z
LAST-MODIFIED:20240607T112558Z
UID:43112-1717747200-1717779600@www.sh.digitale-doerfer.de
SUMMARY:Krabbelgruppe
DESCRIPTION:
URL:https://www.sh.digitale-doerfer.de/event/krabbelgruppe/
END:VEVENT
BEGIN:VEVENT
DTSTART;TZID=Europe/Berlin:20240606T080000
DTEND;TZID=Europe/Berlin:20240609T170000
DTSTAMP:20260419T152835
CREATED:20240529T154247Z
LAST-MODIFIED:20240529T154248Z
UID:42771-1717660800-1717952400@www.sh.digitale-doerfer.de
SUMMARY:Wittenseer Sporttage & 60 Jahre WSV
DESCRIPTION:Alle aktuellen Infos und das ganze Programm gibt es unter: \nhttps://wittenseersv.de/wittenseer-sporttage/
URL:https://www.sh.digitale-doerfer.de/event/wittenseer-sporttage-60-jahre-wsv/
LOCATION:Sportplatz Groß Wittensee\, Schanze - Am Sportplatz\, Groß Wittensee\, Schleswig-Holstein\, 24361\, Deutschland
ATTACH;FMTTYPE=image/png:https://www.sh.digitale-doerfer.de/wp-content/uploads/2024/05/Plakat-Sporttage-mit-QR-Code_A3.png
END:VEVENT
BEGIN:VEVENT
DTSTART;TZID=Europe/Berlin:20240605T080000
DTEND;TZID=Europe/Berlin:20240605T170000
DTSTAMP:20260419T152835
CREATED:20240605T075550Z
LAST-MODIFIED:20240605T075550Z
UID:42996-1717574400-1717606800@www.sh.digitale-doerfer.de
SUMMARY:Neue Leitung gesucht
DESCRIPTION:Zum Jahresende sucht der Seniorenkreis eine neue Leitung. Nähere Informationen gibt es hier Seniorenkreis Nachfolge
URL:https://www.sh.digitale-doerfer.de/event/neue-leitung-gesucht/
END:VEVENT
BEGIN:VEVENT
DTSTART;TZID=Europe/Berlin:20240601T140000
DTEND;TZID=Europe/Berlin:20240601T180000
DTSTAMP:20260419T152835
CREATED:20240506T100314Z
LAST-MODIFIED:20240506T100314Z
UID:42074-1717250400-1717264800@www.sh.digitale-doerfer.de
SUMMARY:Kinderfest Bäk-Mechow-Römnitz
DESCRIPTION:Einladung zum Kinderfest 2024 durch BürgermeisterAnmeldung 2024 mit Datenschutzerklärung – Kopie
URL:https://www.sh.digitale-doerfer.de/event/kinderfest-baek-mechow-roemnitz/
LOCATION:Am Dorfgemeinschaftshaus\, Bäk\, 23909
ORGANIZER;CN="Gemeinde B%C3%A4k":MAILTO:info@auf-der-baek.de
END:VEVENT
BEGIN:VEVENT
DTSTART;TZID=Europe/Berlin:20240530T193000
DTEND;TZID=Europe/Berlin:20240530T220000
DTSTAMP:20260419T152835
CREATED:20240522T121826Z
LAST-MODIFIED:20240522T121826Z
UID:42562-1717097400-1717106400@www.sh.digitale-doerfer.de
SUMMARY:Sitzung Finanzausschuss Groß Wittensee
DESCRIPTION:Gesamtdokument_2024_05_30_G-GRWI-FA
URL:https://www.sh.digitale-doerfer.de/event/sitzung-finanzausschuss-gross-wittensee-3/
LOCATION:De ole Kass\, Groß Wittensee
ATTACH;FMTTYPE=image/jpeg:https://www.sh.digitale-doerfer.de/wp-content/uploads/2024/05/Finanzausschuss.jpg
END:VEVENT
BEGIN:VEVENT
DTSTART;TZID=Europe/Berlin:20240530T193000
DTEND;TZID=Europe/Berlin:20240530T220000
DTSTAMP:20260419T152835
CREATED:20240522T121824Z
LAST-MODIFIED:20240522T121824Z
UID:42558-1717097400-1717106400@www.sh.digitale-doerfer.de
SUMMARY:Sitzung des Ausschusses für Bau- und Wegeangelegenheiten\, Landschaftspflege und Umweltschutz der Gemeinde Groß Wittensee
DESCRIPTION:Gesamtdokument_2024_05_30_G-GRWI-AfBuWLuU
URL:https://www.sh.digitale-doerfer.de/event/sitzung-des-ausschusses-fuer-bau-und-wegeangelegenheiten-landschaftspflege-und-umweltschutz-der-gemeinde-gross-wittensee/
LOCATION:De ole Kass\, Groß Wittensee
ATTACH;FMTTYPE=image/jpeg:https://www.sh.digitale-doerfer.de/wp-content/uploads/2024/05/Bauausschuss.jpg
END:VEVENT
BEGIN:VEVENT
DTSTART;TZID=Europe/Berlin:20240524T150000
DTEND;TZID=Europe/Berlin:20240712T170000
DTSTAMP:20260419T152835
CREATED:20240605T075356Z
LAST-MODIFIED:20240605T075356Z
UID:42981-1716562800-1720803600@www.sh.digitale-doerfer.de
SUMMARY:Die Galerie im FIZ Tellingstedt zeigt Erika Wegner
DESCRIPTION:
URL:https://www.sh.digitale-doerfer.de/event/die-galerie-im-fiz-tellingstedt-zeigt-erika-wegner/
LOCATION:FIZ (Fremdeninformationszentrum)\, Bahnhofstr. 34\, 25782 Tellingstedt
ATTACH;FMTTYPE=image/png:https://www.sh.digitale-doerfer.de/wp-content/uploads/2024/06/Bildschirmfoto-2024-06-04-um-18.24.39.png
END:VEVENT
BEGIN:VEVENT
DTSTART;TZID=Europe/Berlin:20240523T193000
DTEND;TZID=Europe/Berlin:20240523T213000
DTSTAMP:20260419T152835
CREATED:20240521T061108Z
LAST-MODIFIED:20240521T061108Z
UID:42474-1716492600-1716499800@www.sh.digitale-doerfer.de
SUMMARY:Sitzung des Ausschusses für Kultur\, Soziales und Sport
DESCRIPTION:
URL:https://www.sh.digitale-doerfer.de/event/sitzung-des-ausschusses-fuer-kultur-soziales-und-sport/
LOCATION:De ole Kass\, Groß Wittensee
ATTACH;FMTTYPE=image/jpeg:https://www.sh.digitale-doerfer.de/wp-content/uploads/2024/05/24-05-23-Kulturausschuss.jpg
END:VEVENT
BEGIN:VEVENT
DTSTART;TZID=Europe/Berlin:20240519T110000
DTEND;TZID=Europe/Berlin:20240519T180000
DTSTAMP:20260419T152835
CREATED:20240513T082155Z
LAST-MODIFIED:20240513T082155Z
UID:42292-1716116400-1716141600@www.sh.digitale-doerfer.de
SUMMARY:Museumsfest Gnutz
DESCRIPTION:Erinnerung! \nWer am kommenden Pfingstsonntag eine kurzweilige Zeit in Gnutz verbringen möchte sei hier nochmal erinnert 😉 \nMuseumsfest 2024
URL:https://www.sh.digitale-doerfer.de/event/museumsfest-gnutz/
LOCATION:Museum Gnutz\, De ohle Weg 18\, 24622 Gnutz
ATTACH;FMTTYPE=image/jpeg:https://www.sh.digitale-doerfer.de/wp-content/uploads/2024/05/Naturpark-Aukrug-Kultur-Museum-Gnutz-08.jpg
END:VEVENT
BEGIN:VEVENT
DTSTART;TZID=Europe/Berlin:20240519T110000
DTEND;TZID=Europe/Berlin:20240519T180000
DTSTAMP:20260419T152835
CREATED:20240503T074104Z
LAST-MODIFIED:20240503T074104Z
UID:42159-1716116400-1716141600@www.sh.digitale-doerfer.de
SUMMARY:20. Gnutzer Museumsfest
DESCRIPTION:Am Pfingstsonntag\, dem 19.05.2024 feiert das Gnutzer Museum Jubiläum! \nBereits zum 20. Mal findet das „legendäre“ Museumsfest bei Uschi Kirchheimer und Karl von Puttkamer statt: \nMuseumsfest 2024 \nhttp://www.museum-gnutz.de
URL:https://www.sh.digitale-doerfer.de/event/20-gnutzer-museumsfest/
LOCATION:Museum Gnutz\, De ohle Weg 18\, 24622 Gnutz
ATTACH;FMTTYPE=image/jpeg:https://www.sh.digitale-doerfer.de/wp-content/uploads/2024/05/Museum-gnutz.jpg
END:VEVENT
BEGIN:VEVENT
DTSTART;TZID=Europe/Berlin:20240518T100000
DTEND;TZID=Europe/Berlin:20240518T150000
DTSTAMP:20260419T152835
CREATED:20240402T074127Z
LAST-MODIFIED:20240402T074127Z
UID:41540-1716026400-1716044400@www.sh.digitale-doerfer.de
SUMMARY:Workshop: Zeichnen mit Bleistift & Buntstift
DESCRIPTION:Für ein paar Stunden gemeinsam zeichnen\, Neues lernen\, die Gelegenheit zum Probieren\, Austausch und Tipps bekommen. \nDozent: Heiko Blasendorff – der zeichnende Fischmann\nTeilnehmer: max. 8\nKostenbeitrag: 28\,- € \nBitte mitbringen:\nZeichenblock in gewünschter Größe\, Motiv-Vorlagen\, wenn vorhanden Buntstifte und Bleistift\, Anspitzer und Radiergummi sowie kleines Essen für die Pause
URL:https://www.sh.digitale-doerfer.de/event/workshop-zeichnen-mit-bleistift-buntstift/
LOCATION:CoWorking Schlei\, Möhlenstraat 7\, Boren OT Kiesby\, 24392\, Deutschland
ATTACH;FMTTYPE=image/jpeg:https://www.sh.digitale-doerfer.de/wp-content/uploads/2024/03/Zeichenkurs-im-CoWorking-Schlei-scaled.jpg
ORGANIZER;CN="CoWorking Schei":MAILTO:moin@cowrking-schlei.de
END:VEVENT
BEGIN:VEVENT
DTSTART;TZID=Europe/Berlin:20240516T180000
DTEND;TZID=Europe/Berlin:20240516T220000
DTSTAMP:20260419T152835
CREATED:20240422T070124Z
LAST-MODIFIED:20240422T070124Z
UID:41892-1715882400-1715896800@www.sh.digitale-doerfer.de
SUMMARY:Einladung zum Workshop in Tellingstedt
DESCRIPTION:Unsere Gemeinde lädt zur Entwicklung eines neuen Freizeitgeländes ein: Workshop zur Nachnutzung des Freibad- und Campingplatzgelände. Sie freuen sich auf viele Teilnehmerinnen und Teilnehmer. Die Teilnahme von Kindern und Jugendlichen ist ausdrücklich erwünscht.
URL:https://www.sh.digitale-doerfer.de/event/einladung-zum-workshop-in-tellingstedt/
LOCATION:GGS Tellingstedt – Multifunktionsraum – Gebäude 1
ATTACH;FMTTYPE=image/png:https://www.sh.digitale-doerfer.de/wp-content/uploads/2024/04/Worksphop-1.png
END:VEVENT
BEGIN:VEVENT
DTSTART;TZID=Europe/Berlin:20240430T190000
DTEND;TZID=Europe/Berlin:20240430T233000
DTSTAMP:20260419T152835
CREATED:20240409T091446Z
LAST-MODIFIED:20240409T091446Z
UID:41675-1714503600-1714519800@www.sh.digitale-doerfer.de
SUMMARY:Maifeuer der Freiwilligen Feuerwehr Tellingstedt
DESCRIPTION:
URL:https://www.sh.digitale-doerfer.de/event/maifeuer-der-freiwilligen-feuerwehr-tellingstedt/
LOCATION:Feuerwehrgerätehaus Tellingstedt
ATTACH;FMTTYPE=image/png:https://www.sh.digitale-doerfer.de/wp-content/uploads/2024/04/Bildschirmfoto-2024-04-09-um-11.09.19.png
END:VEVENT
BEGIN:VEVENT
DTSTART;TZID=Europe/Berlin:20240430T183000
DTEND;TZID=Europe/Berlin:20240430T190000
DTSTAMP:20260419T152835
CREATED:20240422T070112Z
LAST-MODIFIED:20240422T070112Z
UID:41882-1714501800-1714503600@www.sh.digitale-doerfer.de
SUMMARY:Einladung - Der Maibaum wird in Tellingstedt aufgestellt
DESCRIPTION:
URL:https://www.sh.digitale-doerfer.de/event/einladung-der-maibaum-wird-in-tellingstedt-aufgestellt/
LOCATION:Marktplatz / ZOB Tellingstedt
ATTACH;FMTTYPE=image/png:https://www.sh.digitale-doerfer.de/wp-content/uploads/2024/04/Bildschirmfoto-2024-04-21-um-08.56.57.png
END:VEVENT
BEGIN:VEVENT
DTSTART;TZID=Europe/Berlin:20240429T190000
DTEND;TZID=Europe/Berlin:20240429T210000
DTSTAMP:20260419T152835
CREATED:20240422T070102Z
LAST-MODIFIED:20240422T070102Z
UID:41879-1714417200-1714424400@www.sh.digitale-doerfer.de
SUMMARY:Einladung zur Sitzung des Bau- und Wegausschusses der Gemeinde Tellingstedt
DESCRIPTION:Tagesordnung: \nöffentlich \n1. Einwohnerfragestunde\n2. Niederschrift Nr. 4 der letzten Sitzung vom 31.01.2024\n3. Mitteilungen\n4. Auftragsvergabe für die Erschließungsplanung zum Baugebiet im Birkenweg\n5. Auftragsvergabe für die ornitologische Begutachtung und für die Biotoptypenkartierung zum Baugebiet im Birkenweg\n6. Verkehrsschau 2024\n7. Sachstand zur Pflege der Sportplätze\n8. Sachstand zur Pflege der Tartanbahn auf dem Sportplatz in der      Bahnhofstraße\n9. Sachstand zum Endausbau des B 16 – 3. Bauabschnitt / 2. Teilabschnitt\n10. Sachstand zur Herrichtung der Straßenbeleuchtung im B 16 – 5. und 6. Bauabschnitt\n11. Sachstand zur Erneuerung der Brücke in der Norderstraße\n12. Rasenmähroboter für den Sportplatz an der Markthalle\n13. Eingaben und Anfragen \nMit freundlichen Grüßen\ngez. Fritz Börger \nDer Ausschussvorsitzende
URL:https://www.sh.digitale-doerfer.de/event/einladung-zur-sitzung-des-bau-und-wegausschusses-der-gemeinde-tellingstedt-3/
LOCATION:Café Snövit\, Hauptstr. 20\, 25782 Tellingstedt
ATTACH;FMTTYPE=image/png:https://www.sh.digitale-doerfer.de/wp-content/uploads/2022/08/Wappen-von-Tellingstedt-1.png
END:VEVENT
BEGIN:VEVENT
DTSTART;TZID=Europe/Berlin:20240425T190000
DTEND;TZID=Europe/Berlin:20240425T210000
DTSTAMP:20260419T152835
CREATED:20240422T070056Z
LAST-MODIFIED:20240422T070056Z
UID:41876-1714071600-1714078800@www.sh.digitale-doerfer.de
SUMMARY:Einladung zur Sitzung des Haupt- und Finanzausschusses
DESCRIPTION:Tagesordnung: \nöffentlich\n1. Einwohnerfragestunde\n2. Niederschrift Nr. 5 der letzten Sitzung vom 29.02.2024\n3. Mitteilungen\n4. Beteiligung an der Schleswig-Holstein Netz AG; hier Veräußerung\,    Fortbestand oder Aufstockung\n5. Antrag des Volksfest-Komitees Tellingstedt auf Bezuschussung einer Veranstaltung im Jahr 2024\n6. Finanzierung der Kindertagesstätten\n7. Eingaben und Anfragen \nMit freundlichen Grüßen\ngez. Norbert Arens \nDer Ausschussvorsitzende
URL:https://www.sh.digitale-doerfer.de/event/einladung-zur-sitzung-des-haupt-und-finanzausschusses/
LOCATION:FIZ (Fremdeninformationszentrum)\, Bahnhofstr. 34\, 25782 Tellingstedt
ATTACH;FMTTYPE=image/png:https://www.sh.digitale-doerfer.de/wp-content/uploads/2022/08/Wappen-von-Tellingstedt-1.png
END:VEVENT
END:VCALENDAR