BEGIN:VCALENDAR
VERSION:2.0
PRODID:-//DorfFunk SH - ECPv6.15.20//NONSGML v1.0//EN
CALSCALE:GREGORIAN
METHOD:PUBLISH
X-WR-CALNAME:DorfFunk SH
X-ORIGINAL-URL:https://www.sh.digitale-doerfer.de
X-WR-CALDESC:Veranstaltungen im DorfFunk SH
REFRESH-INTERVAL;VALUE=DURATION:PT1H
X-Robots-Tag:noindex
X-PUBLISHED-TTL:PT1H
BEGIN:VTIMEZONE
TZID:Europe/Berlin
BEGIN:DAYLIGHT
TZOFFSETFROM:+0100
TZOFFSETTO:+0200
TZNAME:CEST
DTSTART:20230326T010000
END:DAYLIGHT
BEGIN:STANDARD
TZOFFSETFROM:+0200
TZOFFSETTO:+0100
TZNAME:CET
DTSTART:20231029T010000
END:STANDARD
BEGIN:DAYLIGHT
TZOFFSETFROM:+0100
TZOFFSETTO:+0200
TZNAME:CEST
DTSTART:20240331T010000
END:DAYLIGHT
BEGIN:STANDARD
TZOFFSETFROM:+0200
TZOFFSETTO:+0100
TZNAME:CET
DTSTART:20241027T010000
END:STANDARD
BEGIN:DAYLIGHT
TZOFFSETFROM:+0100
TZOFFSETTO:+0200
TZNAME:CEST
DTSTART:20250330T010000
END:DAYLIGHT
BEGIN:STANDARD
TZOFFSETFROM:+0200
TZOFFSETTO:+0100
TZNAME:CET
DTSTART:20251026T010000
END:STANDARD
END:VTIMEZONE
BEGIN:VEVENT
DTSTART;TZID=Europe/Berlin:20240425T190000
DTEND;TZID=Europe/Berlin:20240425T210000
DTSTAMP:20260419T211208
CREATED:20240415T071458Z
LAST-MODIFIED:20240415T071458Z
UID:41778-1714071600-1714078800@www.sh.digitale-doerfer.de
SUMMARY:Sitzung der Gemeindevertretung
DESCRIPTION:
URL:https://www.sh.digitale-doerfer.de/event/sitzung-der-gemeindevertretung-4/
LOCATION:MarktTreff Eiderschleife\, Zum Sportplatz 1\, Delve\, 25788\, Deutschland
ATTACH;FMTTYPE=image/png:https://www.sh.digitale-doerfer.de/wp-content/uploads/2023/09/Wappen_Delve-1.png
END:VEVENT
BEGIN:VEVENT
DTSTART;TZID=Europe/Berlin:20240423T193000
DTEND;TZID=Europe/Berlin:20240423T210000
DTSTAMP:20260419T211208
CREATED:20240410T092758Z
LAST-MODIFIED:20240410T092758Z
UID:41720-1713900600-1713906000@www.sh.digitale-doerfer.de
SUMMARY:Sitzung der Gemeindevertretung Gnutz
DESCRIPTION:Wir laden recht herzlich zur Sitzung der Gemeindevertretung am 23.04. ein. \nFolgende Themen stehen u.a. auf der Tagesordnung: \n\nEinwohnerfragestunde\nMitteilungen der Ausschussvorsitzenden\nMitteilungen des Bürgermeisters\nAnfragen der Gemeindevertreter*innen\nBeschlussfassung über die Annahme eines Förderbetrags zum Neubau einer Fahrzeughalle für die Feuerwehrfahrzeuge\nAuftragsvergabe zum Neubau einer Mensa am Kindergartengebäude\nBeratung und Beschlussfassung über die Fortführung der Kommunalbeteiligung an der SH-Netz AG\nAbschluss eines Gebietsänderungsvertrages mit der Gemeinde Heinkenborstel\nFortführung des Seniorentaxis nach dem 31.05.2024\n\n  \nWir freuen uns auf euch! \nDie Gemeindevertretung Gnutz\n  \n \nhttp://www.gnutz.de \n 
URL:https://www.sh.digitale-doerfer.de/event/sitzung-der-gemeindevertretung-gnutz-2/
LOCATION:Zur Gnutzer Mühle\, Itzehoer Straße 15\, Gnutz
ATTACH;FMTTYPE=image/jpeg:https://www.sh.digitale-doerfer.de/wp-content/uploads/2023/12/Fahne.jpg
END:VEVENT
BEGIN:VEVENT
DTSTART;TZID=Europe/Berlin:20240422T080000
DTEND;TZID=Europe/Berlin:20240422T170000
DTSTAMP:20260419T211208
CREATED:20240423T082736Z
LAST-MODIFIED:20240423T082736Z
UID:41962-1713772800-1713805200@www.sh.digitale-doerfer.de
SUMMARY:Termine der Landfrauen Viöl und Umgebung Mai-August 2024
DESCRIPTION:Einldg. Mai 24
URL:https://www.sh.digitale-doerfer.de/event/termine-der-landfrauen-vioel-und-umgebung-mai-august-2024/
END:VEVENT
BEGIN:VEVENT
DTSTART;TZID=Europe/Berlin:20240421T103000
DTEND;TZID=Europe/Berlin:20240421T140000
DTSTAMP:20260419T211208
CREATED:20240325T090154Z
LAST-MODIFIED:20240325T090154Z
UID:41391-1713695400-1713708000@www.sh.digitale-doerfer.de
SUMMARY:50 Jahre Kapelle Gnutz....
DESCRIPTION:…das wollen wir feiern! \nDazu lädt die Gemeinde Gnutz zu einem Festgottesdienst ein: \nFestgottesdienst 50 Jahre Friedenskapelle \n \n \nhttp://www.gnutz.de
URL:https://www.sh.digitale-doerfer.de/event/50-jahre-kapelle-gnutz/
LOCATION:Friedenskapelle Gnutz\, Heinkenborsteler Weg\, 24622 Gnutz
ATTACH;FMTTYPE=image/jpeg:https://www.sh.digitale-doerfer.de/wp-content/uploads/2024/03/Kapelle-von-oben.jpg
END:VEVENT
BEGIN:VEVENT
DTSTART;TZID=Europe/Berlin:20240420T100000
DTEND;TZID=Europe/Berlin:20240420T150000
DTSTAMP:20260419T211208
CREATED:20240402T074142Z
LAST-MODIFIED:20240402T074142Z
UID:41543-1713607200-1713625200@www.sh.digitale-doerfer.de
SUMMARY:Zeichnen geht -  auch für Ungeübte
DESCRIPTION:Ein Workshop mit dem KunstMobil \nZeichnen ist unglaublich vielfältig: klein und fein oder groß und schwungvoll\, konstruiert oder improvisiert. An diesem Tag wechseln sich traditionelle und unkonventionelle Zeichenmethoden ab.\nMit vielen Übungen erproben die Teilnehmenden\, was ihnen am meisten Spaß macht. \nDozentin: Heide Klencke\nTeilnehmer: max. 8
URL:https://www.sh.digitale-doerfer.de/event/zeichnen-geht-auch-fuer-ungeuebte/
LOCATION:CoWorking Schlei\, Möhlenstraat 7\, Boren OT Kiesby\, 24392\, Deutschland
ATTACH;FMTTYPE=image/jpeg:https://www.sh.digitale-doerfer.de/wp-content/uploads/2024/03/Kunstmobil-scaled.jpg
ORGANIZER;CN="CoWorking Schei":MAILTO:moin@cowrking-schlei.de
END:VEVENT
BEGIN:VEVENT
DTSTART;TZID=Europe/Berlin:20240419T140000
DTEND;TZID=Europe/Berlin:20240419T160000
DTSTAMP:20260419T211208
CREATED:20240409T121736Z
LAST-MODIFIED:20240409T121736Z
UID:41682-1713535200-1713542400@www.sh.digitale-doerfer.de
SUMMARY:Offener Kanal Westküste bietet einen Workshop "Soziale Medien" für Kinder und Jugendliche von 9 - 12 Jahren an.
DESCRIPTION:
URL:https://www.sh.digitale-doerfer.de/event/offener-kanal-westkueste-bietet-einen-workshop-soziale-medien-fuer-kinder-und-jugendliche-von-9-12-jahren-an/
END:VEVENT
BEGIN:VEVENT
DTSTART;TZID=Europe/Berlin:20240416T190000
DTEND;TZID=Europe/Berlin:20240416T210000
DTSTAMP:20260419T211208
CREATED:20240326T160154Z
LAST-MODIFIED:20240326T160154Z
UID:41426-1713294000-1713301200@www.sh.digitale-doerfer.de
SUMMARY:Einladung zur Sitzung der Lenkungsgruppe Städtebauförderung Tellingstedt
DESCRIPTION:Tagesordnung: \nöffentlich\n1. Einwohnerfragestunde\n2. Niederschrift der letzten Sitzung vom 10.01.2024\n3. Mitteilungen\n4. Sachstand Sanierungsträger\n5. Sachstand Feuerwehr\n6. Sachstand Kita\n7. Eingaben und Anfragen \nMit freundlichen Grüßen \ngez. Matthias Schlüter \nDer Ausschussvorsitzende
URL:https://www.sh.digitale-doerfer.de/event/einladung-zur-sitzung-der-lenkungsgruppe-staedtebaufoerderung-tellingstedt/
LOCATION:Feuerwehrgerätehaus\, Am Markt 16\, 25782 Tellingstedt
ATTACH;FMTTYPE=image/png:https://www.sh.digitale-doerfer.de/wp-content/uploads/2022/08/Wappen-von-Tellingstedt-1.png
END:VEVENT
BEGIN:VEVENT
DTSTART;TZID=Europe/Berlin:20240416T160000
DTEND;TZID=Europe/Berlin:20240416T193000
DTSTAMP:20260419T211208
CREATED:20240409T091443Z
LAST-MODIFIED:20240409T091443Z
UID:41658-1713283200-1713295800@www.sh.digitale-doerfer.de
SUMMARY:Blut spenden in Gnutz
DESCRIPTION:Am Dienstag\, den 16.April findet in der Gnutzer Sporthalle / Grundschule wieder ein Blut spenden statt: \n \nWenn ihr euch ganz bequem einen Termin reserviert\, macht es den Ablauf einfacher. \nIm Anschluss gibt es wieder einen leckeren Imbiss 😉 \n \nHier noch weitere Hinweise: \nhttps://www.blutspende-nordost.de/blutspendetermine/termine/314373 \n  \n 
URL:https://www.sh.digitale-doerfer.de/event/blut-spenden-in-gnutz-2/
LOCATION:Grundschule/Sporthalle Gnutz\, Dorfstraße 26\, 24622 Gnutz
ATTACH;FMTTYPE=image/jpeg:https://www.sh.digitale-doerfer.de/wp-content/uploads/2024/04/csm_2020_46_Blutspenden_Logo_679001d88b.jpg
END:VEVENT
BEGIN:VEVENT
DTSTART;TZID=Europe/Berlin:20240413T190000
DTEND;TZID=Europe/Berlin:20240413T233000
DTSTAMP:20260419T211208
CREATED:20240202T120244Z
LAST-MODIFIED:20240202T120244Z
UID:40449-1713034800-1713051000@www.sh.digitale-doerfer.de
SUMMARY:6. Tellingstedter Frühlingsball
DESCRIPTION:Das Volksfestkomitee und der LandFrauen Verein laden ein zum 6. Tellingstedter Frühlingsball am Samstag\, 13.04.2024 in der Tellingstedter Markthalle. Mit Live Musik Gala Band 2000 und Doppelzentner \nEinlass: 19.00 Uhr nur in Abendgarderobe \nKartenvorverkauf: VR Bank Westküste in Tellingstedt (18\,00 Euro inklusiv Begrüßungsgetränk) \nTischreservierung unter 0159-01741494 (Florian Paulsen) \n 
URL:https://www.sh.digitale-doerfer.de/event/6-tellingstedter-fruehlingsball-2/
LOCATION:Markthalle Tellingstedt
ATTACH;FMTTYPE=image/png:https://www.sh.digitale-doerfer.de/wp-content/uploads/2024/02/Fruehlingsball-1.png
END:VEVENT
BEGIN:VEVENT
DTSTART;TZID=Europe/Berlin:20240408T180000
DTEND;TZID=Europe/Berlin:20240408T200000
DTSTAMP:20260419T211208
CREATED:20240315T085658Z
LAST-MODIFIED:20240315T085658Z
UID:41188-1712599200-1712606400@www.sh.digitale-doerfer.de
SUMMARY:Schiet sammeln!
DESCRIPTION:Am 08.04. ist es wieder soweit! \n Im Rahmen der Aktion „Sauberes Dorf“ wollen wir wieder etwas Gutes tun. Ob groß oder klein…alle sind herzlich willkommen in unserer Gnutzer Gemarkung für Sauberkeit zu sorgen. \n \n  \nMal sehen\, welche „Schätze“ wieder entdeckt werden 😉 \n \nIm Anschluss wird es wieder einen kleinen Imbiss in der „Gnutzer Mühle“ geben. \n \nhttp://www.gnutz.de
URL:https://www.sh.digitale-doerfer.de/event/schiet-sammeln-2/
LOCATION:Zur Gnutzer Mühle\, Itzehoer Straße 15\, Gnutz
ATTACH;FMTTYPE=image/jpeg:https://www.sh.digitale-doerfer.de/wp-content/uploads/2024/03/Mach-mit-BAV.jpg
END:VEVENT
BEGIN:VEVENT
DTSTART;TZID=Europe/Berlin:20240404T193000
DTEND;TZID=Europe/Berlin:20240404T213000
DTSTAMP:20260419T211208
CREATED:20240402T074205Z
LAST-MODIFIED:20240402T074205Z
UID:41546-1712259000-1712266200@www.sh.digitale-doerfer.de
SUMMARY:Erinnerung zur Sitzung der Gemeindevertretung Damp
DESCRIPTION:Die Tagesordnung mit Unterlagen zur Sitzung unter:\nwww.amt-schlei-ostsee.de\nGemeinde Damp\nPolitik und Sitzungen
URL:https://www.sh.digitale-doerfer.de/event/erinnerung-zur-sitzung-der-gemeindevertretung-damp/
LOCATION:Amt Schlei-Ostsee Außenstelle Damp\, Auf der Höhe 16\, Damp\, 24351
END:VEVENT
BEGIN:VEVENT
DTSTART;TZID=Europe/Berlin:20240402T170000
DTEND;TZID=Europe/Berlin:20240402T200000
DTSTAMP:20260419T211208
CREATED:20240315T080826Z
LAST-MODIFIED:20240315T080826Z
UID:41174-1712077200-1712088000@www.sh.digitale-doerfer.de
SUMMARY:Unser Nachbarland kennen und die Sprache lernen: 🇩🇰 Dänisch-Kurs für Anfänger
DESCRIPTION:*** Neue Termine *** \nMit reichlich Material wollen wir an 6 Abenden in gemütlicher\nRunde mit einem gebürtigen Dänen die Sprache und das Land näher kennenlernen.\nDazu gehört Aussprache und Zahlen\, Einkaufen und Essen gehen\, Uhrzeit und Kalender\, außerdem Politik und Kultur\, Mentalität und Hygge. Ein kulinarischer Einblick mit hotdogs\, smørrebrød und småkager und drikkevarer. Velbekomme!
URL:https://www.sh.digitale-doerfer.de/event/unser-nachbarland-kennen-und-die-sprache-lernen-%f0%9f%87%a9%f0%9f%87%b0-daenisch-kurs-fuer-anfaenger-2/
LOCATION:CoWorking Schlei\, Möhlenstraat 7\, Boren OT Kiesby\, 24392\, Deutschland
ATTACH;FMTTYPE=image/jpeg:https://www.sh.digitale-doerfer.de/wp-content/uploads/2024/03/DK-Kurs.jpg
ORGANIZER;CN="CoWorking Schei":MAILTO:moin@cowrking-schlei.de
END:VEVENT
BEGIN:VEVENT
DTSTART;TZID=Europe/Berlin:20240401T140000
DTEND;TZID=Europe/Berlin:20240401T160000
DTSTAMP:20260419T211208
CREATED:20240227T121647Z
LAST-MODIFIED:20240227T121647Z
UID:40883-1711980000-1711987200@www.sh.digitale-doerfer.de
SUMMARY:Für alle Kinder Ostereiersuchen in Tellingstedt
DESCRIPTION:
URL:https://www.sh.digitale-doerfer.de/event/fuer-alle-kinder-ostereiersuchen-in-tellingstedt/
LOCATION:Haus am Mühlenteich\, Teichstraße 8\, 25782 Tellingstedt
ATTACH;FMTTYPE=image/png:https://www.sh.digitale-doerfer.de/wp-content/uploads/2024/02/Bildschirmfoto-2024-02-27-um-09.46.19.png
END:VEVENT
BEGIN:VEVENT
DTSTART;TZID=Europe/Berlin:20240330T180000
DTEND;TZID=Europe/Berlin:20240330T220000
DTSTAMP:20260419T211208
CREATED:20240318T145206Z
LAST-MODIFIED:20240318T145206Z
UID:41246-1711821600-1711836000@www.sh.digitale-doerfer.de
SUMMARY:Einladung zum Osterfeuer in Groß Wittensee
DESCRIPTION:
URL:https://www.sh.digitale-doerfer.de/event/einladung-zum-osterfeuer-in-gross-wittensee/
LOCATION:Brandenhorst 1\, 24361 Groß Wittensee\, Brandenhorst 1\, Groß Wittensee\, Schleswig-Holstein\, 24361\, Deutschland
ATTACH;FMTTYPE=image/jpeg:https://www.sh.digitale-doerfer.de/wp-content/uploads/2024/03/osterfeuer_2.jpg
END:VEVENT
BEGIN:VEVENT
DTSTART;TZID=Europe/Berlin:20240327T190000
DTEND;TZID=Europe/Berlin:20240327T210000
DTSTAMP:20260419T211208
CREATED:20240319T093309Z
LAST-MODIFIED:20240319T093309Z
UID:41254-1711566000-1711573200@www.sh.digitale-doerfer.de
SUMMARY:Einladung  zur Sitzung der Gemeindevertretung Tellingstedt
DESCRIPTION:Tagesordnung: \nöffentlich \n1. Verpflichtung eines neuen Gemeindevertreters\n2. Einwohnerfragestunde\n3. Niederschrift Nr. 6 der letzten Sitzung vom 15.02.2024\n4. Mitteilungen\n5. Neuwahlen\n5.1. Neuwahl eines Mitgliedes für den Haupt- und Finanzausschuss\n5.2. Neuwahl von zwei Mitgliedern für den Bau- und Wegeausschuss\n5.3. Neuwahl eines Mitgliedes für den Ausschuss für Energie und Umwelt\n5.4. Neuwahl eines Mitgliedes für den Ausschuss für Soziales und Kultur\n5.5. Neuwahl eines Mitgliedes für die Lenkungsgruppe Städtebauförderung\n5.6. Benennung eines Mitgliedes für die Zweckverbandsversammlung der          Sparkasse Mittelholstein AG\n5.7. Entsendung eines Mitgliedes für den Kita-Finanzausschuss Tellingstedt und\nPahlen\n6. Haushaltssatzung für das Haushaltsjahr 2024 mit mittelfristiger                    Finanzplanung für die Finanzplanjahre 2023 bis 2027\n7. Beschlussfassung über den Einnahme- und Ausgabeplan über das                    Sondervermögen Kameradschaftskasse der Freiwilligen Feuerwehr Tellingstedt für\ndas Haushaltsjahr 2024\n8. Beschlussfassung über den Einnahme- und Ausgabeplan über das                Sondervermögen Kameradschaftskasse der Freiwilligen Feuerwehr Rederstall für\ndas Haushaltsjahr 2024\n9. Eingaben und Anfragen \nvoraussichtlich nicht öffentlich\n10. Bekanntgabe der Stellungnahmen nach § 36 BauGB zum gemeindlichen Ein\nvernehmen zu Bauanträgen\n11. Grundstücksangelegenheiten\n12. Mietangelegenheiten \nöffentlich\n13. Bekanntgabe der im nicht öffentlichen Sitzungsteil gefassten Beschlüsse \nMit freundlichen Grüßen \ngez. Matthias Schlüter \nDer Bürgermeister
URL:https://www.sh.digitale-doerfer.de/event/einladung-zur-sitzung-der-gemeindevertretung-tellingstedt-9/
LOCATION:Café Snövit\, Hauptstr. 20\, 25782 Tellingstedt
ATTACH;FMTTYPE=image/png:https://www.sh.digitale-doerfer.de/wp-content/uploads/2022/08/Wappen-von-Tellingstedt-1.png
END:VEVENT
BEGIN:VEVENT
DTSTART;TZID=Europe/Berlin:20240326T190000
DTEND;TZID=Europe/Berlin:20240326T213000
DTSTAMP:20260419T211208
CREATED:20240325T090747Z
LAST-MODIFIED:20240325T115935Z
UID:41364-1711479600-1711488600@www.sh.digitale-doerfer.de
SUMMARY:Erinnerung zu der Sitzung des Bau- u. Planungsausschusses der Gemeinde Damp
DESCRIPTION:
URL:https://www.sh.digitale-doerfer.de/event/erinnerung-zu-der-sitzung-des-bau-u-planungsausschusses-der-gemeinde-damp/
LOCATION:Amt Schlei-Ostsee Außenstelle Damp\, Auf der Höhe 16\, Damp\, 24351
END:VEVENT
BEGIN:VEVENT
DTSTART;TZID=Europe/Berlin:20240323T190000
DTEND;TZID=Europe/Berlin:20240323T220000
DTSTAMP:20260419T211208
CREATED:20240226T085556Z
LAST-MODIFIED:20240226T085556Z
UID:40818-1711220400-1711231200@www.sh.digitale-doerfer.de
SUMMARY:Theaterabend in Gnutz
DESCRIPTION:Lustspiel meets Buffet! \nEin kulinarischer Theaterabend erwartet Euch am 23.03. im Gasthof „Zur Gnutzer Mühle“: \nTheater Gnutz
URL:https://www.sh.digitale-doerfer.de/event/theaterabend-in-gnutz/
LOCATION:Zur Gnutzer Mühle\, Itzehoer Straße 15\, Gnutz
ATTACH;FMTTYPE=image/jpeg:https://www.sh.digitale-doerfer.de/wp-content/uploads/2024/02/Theaterbuehne.jpg
END:VEVENT
BEGIN:VEVENT
DTSTART;TZID=Europe/Berlin:20240322T193000
DTEND;TZID=Europe/Berlin:20240322T213000
DTSTAMP:20260419T211208
CREATED:20240312T150615Z
LAST-MODIFIED:20240312T150615Z
UID:41128-1711135800-1711143000@www.sh.digitale-doerfer.de
SUMMARY:Einladung Jahreshauptversammlung Förderverein Kindergarten und Jugendpflege für Tellingstedt und Umgebung e.V.
DESCRIPTION:Hiermit laden wir alle Mitglieder und Interessierte des Fördervereins Kindergarten und Jugendpflege e. V. zur Jahreshauptversammlung 2024 ein. \nTagesordnung: \n\nBegrüßung\nRückblick\nKassenbericht\nKassenprüfbericht\nSonstiges\n\nFür Getränke und kleine Köstlichkeiten ist gesorgt. \nWir freuen uns auf Euch! \nEuer Vorstand \nTanja Lutschewitz (1. Vorsitzende)
URL:https://www.sh.digitale-doerfer.de/event/einladung-jahreshauptversammlung-foerderverein-kindergarten-und-jugendpflege-fuer-tellingstedt-und-umgebung-e-v/
LOCATION:FIZ (Fremdeninformationszentrum)\, Bahnhofstr. 34\, 25782 Tellingstedt
ATTACH;FMTTYPE=image/png:https://www.sh.digitale-doerfer.de/wp-content/uploads/2023/02/Foerderverein-Logo.png
END:VEVENT
BEGIN:VEVENT
DTSTART;TZID=Europe/Berlin:20240320T190000
DTEND;TZID=Europe/Berlin:20240320T210000
DTSTAMP:20260419T211208
CREATED:20240315T085553Z
LAST-MODIFIED:20240315T085553Z
UID:41198-1710961200-1710968400@www.sh.digitale-doerfer.de
SUMMARY:Erinnerung zur Sitzung des Finanz- u. Hauptausschuss der Gemeinde Damp
DESCRIPTION:Tagesordnung: Finanz- u. Hauptausschuss vom 20.03.2024
URL:https://www.sh.digitale-doerfer.de/event/erinnerung-zur-sitzung-des-finanz-u-hauptausschuss-der-gemeinde-damp/
LOCATION:Amt Schlei-Ostsee Außenstelle Damp\, Auf der Höhe 16\, Damp\, 24351
END:VEVENT
BEGIN:VEVENT
DTSTART;TZID=Europe/Berlin:20240320T190000
DTEND;TZID=Europe/Berlin:20240320T203000
DTSTAMP:20260419T211208
CREATED:20240315T084752Z
LAST-MODIFIED:20240315T084752Z
UID:41185-1710961200-1710966600@www.sh.digitale-doerfer.de
SUMMARY:Öffentlich: Finanz- und Hauptausschuss
DESCRIPTION:Zur nächsten öffentlichen Sitzung trifft sich der Finanz- und Hauptausschuss der Gemeindevertretung Damp am Mittwoch\, 20. März\, 19 Uhr\, in der Amtsverwaltung Auf der Höhe 16 in Vogelsang-Grünholz. Es geht u.a. um den Etat der Gemeinde für 2024\, den Wirtschaftsplan der Kurbetriebe \, den Bericht des Geschäftsführers der Kurbetriebe und die Einwohnerfragestunde. \nHier der Link zur komplettenTagesordnung: \nEinladung zur Sitzung Finanz und Hauptausschuss Damp am 200
URL:https://www.sh.digitale-doerfer.de/event/oeffentlich-finanz-und-hauptausschuss/
LOCATION:Amtsgebäude Auf der Höhe 16 | Vogelsang-Grünholz
END:VEVENT
BEGIN:VEVENT
DTSTART;TZID=Europe/Berlin:20240320T150000
DTEND;TZID=Europe/Berlin:20240320T170000
DTSTAMP:20260419T211208
CREATED:20240318T081414Z
LAST-MODIFIED:20240318T081414Z
UID:41207-1710946800-1710954000@www.sh.digitale-doerfer.de
SUMMARY:Basteln zu Ostern
DESCRIPTION:Hey\, liebe Kids! \nWir wollen zusammen Ostereier anmalen und Osterdeko basteln!\nMittwoch\, 20. März und Freitag\, 22. März\,\njeweils von 15.00 h bis 17.00 h\nim Martin-Luther-Haus.\nBringt bitte Farbe\, Kleber\, Bastelschere und ausgeblasene Eier mit. Wir freuen uns auf euch!\nMelanie und Helga
URL:https://www.sh.digitale-doerfer.de/event/basteln-zu-ostern/
LOCATION:Martin-Luther-Haus\, Süderstraße 6\, Delve\, 25788\, Deutschland
END:VEVENT
BEGIN:VEVENT
DTSTART;TZID=Europe/Berlin:20240317T170000
DTEND;TZID=Europe/Berlin:20240317T190000
DTSTAMP:20260419T211208
CREATED:20240202T120248Z
LAST-MODIFIED:20240202T120248Z
UID:40453-1710694800-1710702000@www.sh.digitale-doerfer.de
SUMMARY:15 Jahre St. Martini-Orchester - Jubiläumskonzert in Tellingstedt
DESCRIPTION:
URL:https://www.sh.digitale-doerfer.de/event/15-jahre-st-martini-orchester-jubilaeumskonzert-in-tellingstedt/
LOCATION:St. Martins-Kirche Tellingstedt
ATTACH;FMTTYPE=image/png:https://www.sh.digitale-doerfer.de/wp-content/uploads/2024/02/Bildschirmfoto-2024-02-02-um-12.07.17.png
END:VEVENT
BEGIN:VEVENT
DTSTART;TZID=Europe/Berlin:20240316T150000
DTEND;TZID=Europe/Berlin:20240316T170000
DTSTAMP:20260419T211208
CREATED:20240305T094612Z
LAST-MODIFIED:20240305T094612Z
UID:40992-1710601200-1710608400@www.sh.digitale-doerfer.de
SUMMARY:Reparieren statt wegwerfen – Neues Repair-Café in Groß Wittensee
DESCRIPTION:Reparieren statt wegwerfen – Neues Repair-Café in Groß Wittensee \nDer Stecker am Staubsauger wackelt\, der Toaster funktioniert nicht mehr\, am Stuhl fehlt ein Bein\, das Bügeleisen bügelt nicht mehr – die Liste ließe sich beliebig verlängern. Alltagsgegenstände wie Staubsauger\, Nähmaschinen oder Mikrowellen gehen halt irgendwann einmal kaputt. Allerdings müssen sie deshalb noch lange nicht auf den Müll. Häufig fehlt nur eine Schraube\, ein Kabel muss erneuert werden\, ein bisschen Klebstoff hier\, ein Lötkolben dort\, und schon funktioniert alles wieder – man muss halt nur wissen\, wie! \nWolfgang Prahl\, Elektroinstallateurmeister aus Groß Wittensee im Ruhestand\, weiß\, wie und möchte sein Wissen zukünftig ehrenamtlich der Allgemeinheit zur Verfügung stellen. \nJeden dritten Sonnabend öffnet ab jetzt im Dorfgemeinschaftshaus „De ole Kass“ das \nRepair-Café von 15:00 h – 17:00 h\, \neine Selbsthilfewerkstatt zur Reparatur defekter Alltags- und Gebrauchsgegenstände. Das Repair-Café soll mehr sein als nur eine Annahmestelle\, wie sie jeder Elektro-Supermarkt anbietet. Neben dem Nachhaltigkeitsgedanken soll es nach Möglichkeit sozialer Treffpunkt für Menschen aus unterschiedlichsten Zusammenhängen sein. Während der Öffnungszeiten wird es deshalb ein kleines Verpflegungsangebot geben\, meist in Form von Kaffee und Kuchen. Auch wer nichts zu reparieren\, dafür aber Lust auf eine schöne Tasse Kaffee hat oder gern auch eigene Fähigkeiten einbringen möchte\, ist beim Repair Café herzlich willkommen. \nWerkzeug und etwas Grundmaterial für Reparaturen sind vorhanden\, zum Beispiel für elektrische Geräte\, Möbel\, Fahrräder\, Spielzeug und mehr. Die Reparatur geschieht grundsätzlich kostenfrei. Ein stets hungriges Sparschwein freut sich allerdings über Spenden (Notwendige Ersatzteile für die Reparatur müssen entweder selbst gekauft werden oder die Kosten müssen gegen Beleg erstattet werden). \n—–
URL:https://www.sh.digitale-doerfer.de/event/reparieren-statt-wegwerfen-neues-repair-cafe-in-gross-wittensee/
LOCATION:De ole Kass\, Groß Wittensee
END:VEVENT
BEGIN:VEVENT
DTSTART;TZID=Europe/Berlin:20240316T100000
DTEND;TZID=Europe/Berlin:20240316T120000
DTSTAMP:20260419T211208
CREATED:20240304T092102Z
LAST-MODIFIED:20240304T092102Z
UID:40956-1710583200-1710590400@www.sh.digitale-doerfer.de
SUMMARY:Baby- und Kinderkleiderbörse in Groß Wittensee
DESCRIPTION:
URL:https://www.sh.digitale-doerfer.de/event/baby-und-kinderkleiderboerse-in-gross-wittensee/
LOCATION:Kita Groß Wittensee\, Mühlenstr. 10\, Groß Wittensee\, Schleswig-Holstein\, 24361\, Deutschland
ATTACH;FMTTYPE=image/jpeg:https://www.sh.digitale-doerfer.de/wp-content/uploads/2024/03/Babyboerse.jpg
END:VEVENT
BEGIN:VEVENT
DTSTART;TZID=Europe/Berlin:20240313T180000
DTEND;TZID=Europe/Berlin:20240313T220000
DTSTAMP:20260419T211208
CREATED:20240305T094614Z
LAST-MODIFIED:20240305T094614Z
UID:41005-1710352800-1710367200@www.sh.digitale-doerfer.de
SUMMARY:Einwohnerversammlung der Gemeinde Groß Wittensee am 13.03. im Schützenhof
DESCRIPTION:
URL:https://www.sh.digitale-doerfer.de/event/einwohnerversammlung-der-gemeinde-gross-wittensee-am-13-03-im-schuetzenhof/
LOCATION:Schützenhof\, Groß Wittensee\, Rendsburger Str. 2\, Groß Wittensee\, Schleswig-Holstein\, 24361\, Deutschland
ATTACH;FMTTYPE=image/jpeg:https://www.sh.digitale-doerfer.de/wp-content/uploads/2024/03/Einwohnerversammlung.jpg
END:VEVENT
BEGIN:VEVENT
DTSTART;TZID=Europe/Berlin:20240312T190000
DTEND;TZID=Europe/Berlin:20240312T210000
DTSTAMP:20260419T211208
CREATED:20240306T094735Z
LAST-MODIFIED:20240306T094735Z
UID:41033-1710270000-1710277200@www.sh.digitale-doerfer.de
SUMMARY:Einladung zur Sitzung des Ausschusses für Soziales und Tourismus der Gemeinde Tellingstedt
DESCRIPTION:Tagesordnung: \nöffentlich \n1. Einwohnerfragestunde\n2. Niederschrift der letzten Sitzung vom 08.11.2023\n3. Mitteilungen\n4. Aktueller Sachstand Jugendtreff\n5. Histour-Schild am Weg Oesterborstel Weide\n6. Anschaffung Schaukel Spielplatz Wesselhorn\n7. Besuchsfreunde Altenheim\n8. Ostereiersuche Haus am Mühlenteich\n9. Eingaben und Anfragen\nMit freundlichen Grüßen \ngez. Jacqueline Nonnenkamp \nDie Ausschussvorsitzende
URL:https://www.sh.digitale-doerfer.de/event/einladung-zur-sitzung-des-ausschusses-fuer-soziales-und-tourismus-der-gemeinde-tellingstedt-5/
LOCATION:FIZ (Fremdeninformationszentrum)\, Bahnhofstr. 34\, 25782 Tellingstedt
ATTACH;FMTTYPE=image/png:https://www.sh.digitale-doerfer.de/wp-content/uploads/2022/08/Wappen-von-Tellingstedt-1.png
END:VEVENT
BEGIN:VEVENT
DTSTART;TZID=Europe/Berlin:20240309T140000
DTEND;TZID=Europe/Berlin:20240328T180000
DTSTAMP:20260419T211208
CREATED:20240212T080740Z
LAST-MODIFIED:20240212T080740Z
UID:40594-1709992800-1711648800@www.sh.digitale-doerfer.de
SUMMARY:Müllsammelaktion in Tellingstedt
DESCRIPTION:Liebe Tellingstedter\, \nam 09. März 2024 beginnt die Aktion „Unser sauberes Schleswig-Holstein“. \nAuch wir von der Gemeinde Tellingstedt möchten mit einer gemeinsamen Müllsammelaktion am 09. März 2024 starten. Wir treffen uns um 14.00 Uhr bei der Markthalle\, um unser Dorf gemeinsam vom Müll zu befreien. Jeder ist herzlich eingeladen\, mitzumachen. \nIn Tellingstedt geht die Aktion bis zum 28. März 2024. Der gesammelte Müll kann bis dahin im Container an der Markthalle entsorgt werden. Jeder der mitmacht\, kann mir ein Foto von seinem gesammelten Unrat schicken und einen Preis gewinnen. \nWenn es Fragen oder weitere Ideen gibt\, kommt gerne auf mich zu. \nViele Grüße \nEure Kümmerin Wenke \nMobil: 0173 8997533 oder E-Mail: kuemmerin-tellingstedt@gmx.de \n 
URL:https://www.sh.digitale-doerfer.de/event/muellsammelaktion-in-tellingstedt/
LOCATION:Markthalle Tellingstedt
ATTACH;FMTTYPE=image/png:https://www.sh.digitale-doerfer.de/wp-content/uploads/2024/02/Bildschirmfoto-2024-02-11-um-16.04.33.png
END:VEVENT
BEGIN:VEVENT
DTSTART;TZID=Europe/Berlin:20240307T193000
DTEND;TZID=Europe/Berlin:20240307T210000
DTSTAMP:20260419T211208
CREATED:20240227T083439Z
LAST-MODIFIED:20240227T083439Z
UID:40862-1709839800-1709845200@www.sh.digitale-doerfer.de
SUMMARY:Sitzung Finanzausschuss Groß Wittensee
DESCRIPTION:
URL:https://www.sh.digitale-doerfer.de/event/sitzung-finanzausschuss-gross-wittensee-2/
LOCATION:De ole Kass\, Groß Wittensee
ATTACH;FMTTYPE=image/jpeg:https://www.sh.digitale-doerfer.de/wp-content/uploads/2024/02/FA-07.03.2024-06.jpg
END:VEVENT
BEGIN:VEVENT
DTSTART;TZID=Europe/Berlin:20240307T193000
DTEND;TZID=Europe/Berlin:20240307T210000
DTSTAMP:20260419T211208
CREATED:20240227T083432Z
LAST-MODIFIED:20240227T083432Z
UID:40852-1709839800-1709845200@www.sh.digitale-doerfer.de
SUMMARY:Sitzung Bauausschuss Groß Wittensee
DESCRIPTION:
URL:https://www.sh.digitale-doerfer.de/event/sitzung-bauausschuss-gross-wittensee-2/
LOCATION:De ole Kass\, Groß Wittensee
ATTACH;FMTTYPE=image/jpeg:https://www.sh.digitale-doerfer.de/wp-content/uploads/2024/02/FA-07.03.2024-5.jpg
END:VEVENT
BEGIN:VEVENT
DTSTART;TZID=Europe/Berlin:20240301T193000
DTEND;TZID=Europe/Berlin:20240301T213000
DTSTAMP:20260419T211208
CREATED:20240227T121649Z
LAST-MODIFIED:20240227T121649Z
UID:40889-1709321400-1709328600@www.sh.digitale-doerfer.de
SUMMARY:Einladung zur Jahreshauptversammlung vom MTV Tellingstedt
DESCRIPTION:Tagesordnung: \n\nBegrüßung\nEhrungen\nJahresbericht des Vorsitzenden mit Aussprache\nJahresbericht der Spartenleiter mit anschl. Aussprache\nKassenbericht mit anschl. Aussprache\nBericht Kassenprüfer\nEntlastung des Vorstandes\nWahlen\n\n1. Vorsitzender/de\nSchriftwart/in\nFußballobmann/frau\nTurnwart/in\nJugendwart/in\nKassenprüfer/in\n\n\nFestsetzung der Mitgliedsbeiträge\nAnträge\nVerschiedenes\n\n 
URL:https://www.sh.digitale-doerfer.de/event/einladung-zur-jahreshauptversammlung-vom-mtv-tellingstedt/
LOCATION:Dithmarscher Hof\, H. Kühl\, Töpferstraße 12\, 25782 Tellingstedt
ATTACH;FMTTYPE=image/png:https://www.sh.digitale-doerfer.de/wp-content/uploads/2023/02/MTV.png
END:VEVENT
END:VCALENDAR