BEGIN:VCALENDAR
VERSION:2.0
PRODID:-//DorfFunk SH - ECPv6.15.20//NONSGML v1.0//EN
CALSCALE:GREGORIAN
METHOD:PUBLISH
X-WR-CALNAME:DorfFunk SH
X-ORIGINAL-URL:https://www.sh.digitale-doerfer.de
X-WR-CALDESC:Veranstaltungen im DorfFunk SH
REFRESH-INTERVAL;VALUE=DURATION:PT1H
X-Robots-Tag:noindex
X-PUBLISHED-TTL:PT1H
BEGIN:VTIMEZONE
TZID:Europe/Berlin
BEGIN:DAYLIGHT
TZOFFSETFROM:+0100
TZOFFSETTO:+0200
TZNAME:CEST
DTSTART:20200329T010000
END:DAYLIGHT
BEGIN:STANDARD
TZOFFSETFROM:+0200
TZOFFSETTO:+0100
TZNAME:CET
DTSTART:20201025T010000
END:STANDARD
BEGIN:DAYLIGHT
TZOFFSETFROM:+0100
TZOFFSETTO:+0200
TZNAME:CEST
DTSTART:20210328T010000
END:DAYLIGHT
BEGIN:STANDARD
TZOFFSETFROM:+0200
TZOFFSETTO:+0100
TZNAME:CET
DTSTART:20211031T010000
END:STANDARD
BEGIN:DAYLIGHT
TZOFFSETFROM:+0100
TZOFFSETTO:+0200
TZNAME:CEST
DTSTART:20220327T010000
END:DAYLIGHT
BEGIN:STANDARD
TZOFFSETFROM:+0200
TZOFFSETTO:+0100
TZNAME:CET
DTSTART:20221030T010000
END:STANDARD
BEGIN:DAYLIGHT
TZOFFSETFROM:+0100
TZOFFSETTO:+0200
TZNAME:CEST
DTSTART:20230326T010000
END:DAYLIGHT
BEGIN:STANDARD
TZOFFSETFROM:+0200
TZOFFSETTO:+0100
TZNAME:CET
DTSTART:20231029T010000
END:STANDARD
END:VTIMEZONE
BEGIN:VEVENT
DTSTART;TZID=Europe/Berlin:20220326T180000
DTEND;TZID=Europe/Berlin:20220326T230000
DTSTAMP:20260422T015005
CREATED:20220310T152219Z
LAST-MODIFIED:20220310T152219Z
UID:23122-1648317600-1648335600@www.sh.digitale-doerfer.de
SUMMARY:Frühjahrfeuer in Blunk
DESCRIPTION:Frühjahrsfeuer 2022
URL:https://www.sh.digitale-doerfer.de/event/fruehjahrfeuer-in-blunk/
END:VEVENT
BEGIN:VEVENT
DTSTART;TZID=Europe/Berlin:20220326T140000
DTEND;TZID=Europe/Berlin:20220326T170000
DTSTAMP:20260422T015005
CREATED:20220316T080007Z
LAST-MODIFIED:20220316T080058Z
UID:23246-1648303200-1648314000@www.sh.digitale-doerfer.de
SUMMARY:UWG Boßeltour 2022
DESCRIPTION:Endlich wieder mal boßelnEinladung Boßeln
URL:https://www.sh.digitale-doerfer.de/event/uwg-bosseltour-2022/
END:VEVENT
BEGIN:VEVENT
DTSTART;TZID=Europe/Berlin:20220326T130000
DTEND;TZID=Europe/Berlin:20220326T150000
DTSTAMP:20260422T015005
CREATED:20220308T070402Z
LAST-MODIFIED:20220322T081351Z
UID:22967-1648299600-1648306800@www.sh.digitale-doerfer.de
SUMMARY:Pflanzen-Tauschbörse
DESCRIPTION:Pflanzen mitgebracht.\nPflanzen mitgenommen. \n\n\n\n\nEnde März gibt es eine Tauschbörse für Pflanzen\, Samen und Ableger im Garten des CoWorkingSpaces in Boren OT Kiesby statt. Wir laden alle Interessenten und Tauschlustigen dazu ein. \n\n\n\n\nBitte die Pflanzen beschriften. Saaten bitte in kleine Tüten verpacken und beschriften. \n\n\n\n\nWer nur abgeben möchte: Donnerstag 24.03.2022 ab 10 Uhr im CoWorkingSpace \n\n\n\n\nInformationen und Fragen:\nSusanne Söder-Beyer: 0 46 41 – 71 46\nGabriele Franke: 0 46 41 – 98 62 78 3
URL:https://www.sh.digitale-doerfer.de/event/pflanzen-tauschboerse/
LOCATION:CoWorking Schlei\, Möhlenstraat 7\, Boren OT Kiesby\, 24392\, Deutschland
ORGANIZER;CN="CoWorking Schei":MAILTO:moin@cowrking-schlei.de
END:VEVENT
BEGIN:VEVENT
DTSTART;TZID=Europe/Berlin:20220312T100000
DTEND;TZID=Europe/Berlin:20220312T130000
DTSTAMP:20260422T015005
CREATED:20220307T064456Z
LAST-MODIFIED:20220307T064456Z
UID:22921-1647079200-1647090000@www.sh.digitale-doerfer.de
SUMMARY:Dorfreinigung in Gülzow\, 12. März 2022
DESCRIPTION:Die Februar-Stürme und ein paar Tage mit herrlichem Frühjahrs-Sonnenschein zeigen es deutlich – es ist mal wieder Zeit für eine Dorfreinigung! \nTreffpunkt Samstag\, 12. März 2022\, Parkplatz MarktTreff 10:00 Uhr \nGemeinsam befreien wir Dorf\, Wanderwege und Knicks in der Feldmark von Unrat. Nach der Arbeit werden wir uns mit Grillwürstchen und Getränken am Bauhof der Gemeinde stärken. Für Müllbeutel ist gesorgt\, jedoch bitte eigene Arbeitshandschuhe und – soweit vorhanden – Warnwesten mitbringen.
URL:https://www.sh.digitale-doerfer.de/event/dorfreinigung-in-guelzow-12-maerz-2022/
LOCATION:MarktTreff Gülzow\, Hauptstraße 21\, Gülzow\, Schleswig-Holstein\, 21483\, Deutschland
END:VEVENT
BEGIN:VEVENT
DTSTART;TZID=Europe/Berlin:20220312T100000
DTEND;TZID=Europe/Berlin:20220312T120000
DTSTAMP:20260422T015005
CREATED:20220310T095101Z
LAST-MODIFIED:20220310T095101Z
UID:23051-1647079200-1647086400@www.sh.digitale-doerfer.de
SUMMARY:Frühjahrsputz in Boostedt
DESCRIPTION:Am Samstag\, den 12.03.2022\, findet in der Gemeinde Boostedt die Aktion „sauberes Dorf“ statt.\n\nTreffpunkt ist um 12.00 Uhr an den Sportstätten des SV Boostedt in der Bahnhofstraße 56.\n\nEs wird um rege Beteiligung gebeten.\n\nFrühjahrsputz Boostedt
URL:https://www.sh.digitale-doerfer.de/event/fruehjahrsputz-in-boostedt/
END:VEVENT
BEGIN:VEVENT
DTSTART;TZID=Europe/Berlin:20220312T080000
DTEND;TZID=Europe/Berlin:20220423T180000
DTSTAMP:20260422T015005
CREATED:20220404T073007Z
LAST-MODIFIED:20220404T073007Z
UID:23852-1647072000-1650736800@www.sh.digitale-doerfer.de
SUMMARY:Plogging-Challenge - Umweltwochen in Tellingstedt
DESCRIPTION:Vielen herzlichen Dank für die zahlreichen Helfer*innen beim Müll sammeln. Unser Dorf ist sichtbar sauberer geworden. Die Umweltwochen gehen noch bis Samstag\, den 23.04.2022. Ich freue mich weiterhin über viele Teilnehmer*innen. Wer an der Challenge teilnehmen möchte\, schickt mir bitte ein Foto vom Erfolg per WhatsApp 0173- 8997533 oder E-Mail kuemmerin-tellingstedt@gmx.de. \nVielen Dank für die großartige Unterstützung und schöne Osterferien \nEure Kümmerin Wenke Rolfs \n 
URL:https://www.sh.digitale-doerfer.de/event/plogging-challenge-umweltwochen-in-tellingstedt-2/
LOCATION:Tellingstedt und Umgebung
ATTACH;FMTTYPE=image/jpeg:https://www.sh.digitale-doerfer.de/wp-content/uploads/2022/04/Muell1-Bild.jpg
END:VEVENT
BEGIN:VEVENT
DTSTART;TZID=Europe/Berlin:20220312T080000
DTEND;TZID=Europe/Berlin:20220423T170000
DTSTAMP:20260422T015005
CREATED:20220310T095152Z
LAST-MODIFIED:20220310T095152Z
UID:23076-1647072000-1650733200@www.sh.digitale-doerfer.de
SUMMARY:Plogging-Challenge - Umweltwochen in Tellingstedt
DESCRIPTION:Am Samstag\, den 12. März 2022\, startet die Plogging-Challenge in Tellingstedt. Plogging ist eine Wortneuschöpfung aus „Jogging“ und dem schwedischen Wort „plocka“\, was ins Deutsche übersetzt „aufsammeln“ oder „aufheben“ bedeutet. Plogging ist eine Trendsportart aus Schweden\, die Bewegung (gehen\, walken\, joggen\, Fahrrad fahren….) und herumliegenden Müll sammeln verbindet. Jeder tut etwas Gutes für sich und die Natur. Alle Tellingstedter Bürger*innen\, Vereine\, Schulklassen können mitmachen. Für alle Teilnehmer gibt es tolle Preise zu gewinnen.  Wer an der Verlosung teilnehmen möchte\, braucht nur ein Foto oder eine kurze Rückmeldung von der Challenge per WhatsApp (0173-8997533) oder    E-Mail (kuemmerin-tellingstedt@gmx.de) an die Kümmerin schicken. Der gesammelte Müll kann im Container bei der Markthalle entsorgt werden. Für das Sammeln können Müllbeutel und Handschuhe bei der Kümmerin abgeholt werden. Es wäre klasse\, wenn sich viele an den Umweltwochen beteiligen und unser Dorf und die Umgebung noch sauberer machen.
URL:https://www.sh.digitale-doerfer.de/event/plogging-challenge-umweltwochen-in-tellingstedt/
LOCATION:Tellingstedt und Umgebung
ATTACH;FMTTYPE=image/jpeg:https://www.sh.digitale-doerfer.de/wp-content/uploads/2022/03/iStock-1215500432.jpg
END:VEVENT
BEGIN:VEVENT
DTSTART;VALUE=DATE:20220312
DTEND;VALUE=DATE:20220313
DTSTAMP:20260422T015005
CREATED:20220228T072953Z
LAST-MODIFIED:20220228T072953Z
UID:22550-1647043200-1647129599@www.sh.digitale-doerfer.de
SUMMARY:Rederstaller-Umwelttag
DESCRIPTION:Am Samstag\, den 12.03.2022 um 10.00 Uhr findet der Umwelttag in Rederstall statt. Treffpunkt ist das Feuerwehrgerätehaus. Im Anschluss gibt es einen kleinen Imbiss. Alle Rederstaller und Freunde sind eingeladen\, um das Dorf vom Unrat zu befreien.
URL:https://www.sh.digitale-doerfer.de/event/rederstaller-umwelttag/
LOCATION:Feuerwehrgerätehaus
END:VEVENT
BEGIN:VEVENT
DTSTART;TZID=Europe/Berlin:20220310T000000
DTEND;TZID=Europe/Berlin:20220320T000000
DTSTAMP:20260422T015005
CREATED:20220310T152437Z
LAST-MODIFIED:20220310T152437Z
UID:23128-1646870400-1647734400@www.sh.digitale-doerfer.de
SUMMARY:Aktion sauberes Dorf in Latendorf
DESCRIPTION:Am Samstag\, den 19. März 2022 findet um 10.00 Uhr in der Gemeinde Latendorf die Aktion „Sauberes Dorf“ statt. \nFür weitere Informationen hier klicken: \nDorfputz-2022
URL:https://www.sh.digitale-doerfer.de/event/aktion-sauberes-dorf-in-latendorf/
END:VEVENT
BEGIN:VEVENT
DTSTART;TZID=Europe/Berlin:20220308T193000
DTEND;TZID=Europe/Berlin:20220308T203000
DTSTAMP:20260422T015005
CREATED:20220228T072922Z
LAST-MODIFIED:20220228T072930Z
UID:22542-1646767800-1646771400@www.sh.digitale-doerfer.de
SUMMARY:Jahreshauptversammlung Elternverein GGS Tellingstedt
DESCRIPTION:Der Elternverein der Grund- und Gemeinschaftsschule Tellingstedt                      lädt ein zur Jahreshauptversammlung. Tagesordnung:                                                    1. Begrüßung  2. Bericht des Vorsitzenden  3. Bericht des Kassenwartes                  4. Bericht des Kassenprüfer  5.Wahlen 1. Vorsitzende/r\, Schriftführer/in\, Kassenprüfer/in  6. Verschiedenes \nÜber ein zahlreiches Erscheinen würden wir uns sehr freuen!                                      Ihre Heidi Bibow -Vorsitzende – 04838/287
URL:https://www.sh.digitale-doerfer.de/event/jahreshauptversammlung-elternverein-ggs-tellingstedt/
LOCATION:Gemeinschaftsschule Tellingstedt
END:VEVENT
BEGIN:VEVENT
DTSTART;TZID=Europe/Berlin:20220222T190000
DTEND;TZID=Europe/Berlin:20220222T210000
DTSTAMP:20260422T015005
CREATED:20220222T071943Z
LAST-MODIFIED:20220222T071956Z
UID:22355-1645556400-1645563600@www.sh.digitale-doerfer.de
SUMMARY:Sitzung der Gemeindevertretung Tellingstedt
DESCRIPTION:Tagesordnung:\nöffentlich\n1. Einwohnerfragestunde\n2. Niederschrift Nr. 27 der letzten Sitzung vom 24.01.2022\n3. Mitteilungen\n4. Aufstellung der 3. Änderung des vorhabenbezogenen Bebauungsplanes                Nr. 3 der Gemeinde Tellingstedt (Einbau Arztpraxis) für das Gebiet „nordwestlicher Gebäudeteil Hauptstraße 7“ hier: Aufhebung des Aufstellungsbeschlusses              5. Beratung und Beschlussfassung über einen Antrag auf Durchführung eines\nBauleitplanverfahrens zum Neubau eines Aldi- und REWE-Marktes in Tellingstedt\n6. Aufstellung der 4. Änderung des vorhabenbezogenen Bebauungsplanes                Nr. 3 der Gemeinde Tellingstedt (Verbrauchermärkte) für das Gebiet „zwischen\nHauptstraße\, Husumer Straße und Norderstraße“\nhier: Aufstellungsbeschluss\n7. Grundsatzbeschluss zum Abschluss eines Vertrages mit der Kirchengemeinde Tellingstedt zur Friedhofsfinanzierung\n8. Defizitbeteiligung am Friedhofsbetrieb Tellingstedt 2020\n9. „Daseinsvorsorge Tellingstedt“ im Städtebauförderungsprogramm                   „Sozialer Zusammenhalt“\n9.1. Beschluss über die Änderung des Maßnahmenplanes\n9.2. Beschluss über die Beantragung von Fördermitteln für                                      das Programmjahr 2022\n10. Erweiterte Auftragsvergabe für die Errichtung der Löschwasserbrunnen              im Gewerbegebiet\n11. Neubau KiTa\n11.1. Finanzierungsvereinbarung mit den Umlandgemeinden\n11.2. Einrichtung einer Arbeitsgruppe\n11.3. Beratung und Beschlussfassung zur Auftragserteilung der Bauleitplanungsleistungen\n12. Sanierung des Eichenweges\n13. Ausbau der Spurbahn am Klärwerk (Grashofweg)\n14. Antrag der Volkshochschule auf Erhöhung der jährlichen Zuschüsse\n15. Antrag der CDU-Fraktion: Freier Eintritt Dithmarscher Wasserwelt\n16. Antrag der CDU-Fraktion: Quartierskonzept\n17. Investitionszuschuss an die ATeG für den Neubau der Kläranlage\n18. Eingaben und Anfragen \nvoraussichtlich nicht öffentlich\n19. Ausweisung eines Gewerbegebietes\n20. Bekanntgabe der Stellungnahmen nach § 36 BauGB zum gemeindlichen Einvernehmen zu Bauanträgen \nöffentlich\n21. Bekanntgabe der im nicht öffentlichen Sitzungsteil gefassten Beschlüsse \nMit freundlichen Grüßen\ngez. Matthias Schlüter\nDer Bürgermeister \nFür die Sitzung wird die 3G-Regelung angeordnet. Es dürfen nur Geimpfte\, Genesene oder Getestete an der Sitzung teilnehmen. Dies gilt für die Gremienmitglieder und Besucher*innen. Der Nachweis hierüber ist vor Eintritt in den Sitzungsraum vorzulegen. Der Testnachweis darf nicht älter 24 Stunden sein. Die Entscheidung über die Anzahl der zugelassenen Besucher*innen trägt die / der Vorsitzende. Auf den Verkehrsflächen ist eine qualifizierte Mund-Nasen-Bedeckung zu tragen.
URL:https://www.sh.digitale-doerfer.de/event/sitzung-der-gemeindevertretung-tellingstedt/
LOCATION:Café Snövit\, Hauptstr. 20\, 25782 Tellingstedt
END:VEVENT
BEGIN:VEVENT
DTSTART;TZID=Europe/Berlin:20220220T090000
DTEND;TZID=Europe/Berlin:20220220T120000
DTSTAMP:20260422T015005
CREATED:20220217T063621Z
LAST-MODIFIED:20220217T063621Z
UID:22163-1645347600-1645358400@www.sh.digitale-doerfer.de
SUMMARY:Gülzow: Infostand “Tante Enso”\, 20.02.22
DESCRIPTION:Die Teilhaberkampagne für den tante enso Supermarkt  in Gülzow geht auf die Zielgerade. Noch fehlen uns Teilhaber\, um die 300er Marke zu reißen. \nBürgermeister Schmahl und weitere tante enso-Paten informieren erneut am\n19. und 20. Februar zwischen 9 und 12 Uhr im MarktTreff! \ninfo 19 feb
URL:https://www.sh.digitale-doerfer.de/event/guelzow-infostand-tante-enso-20-02-22/
LOCATION:MarktTreff Gülzow\, Hauptstraße 21\, Gülzow\, Schleswig-Holstein\, 21483\, Deutschland
END:VEVENT
BEGIN:VEVENT
DTSTART;TZID=Europe/Berlin:20220219T090000
DTEND;TZID=Europe/Berlin:20220219T120000
DTSTAMP:20260422T015005
CREATED:20220217T063618Z
LAST-MODIFIED:20220217T063618Z
UID:22161-1645261200-1645272000@www.sh.digitale-doerfer.de
SUMMARY:Gülzow: Infostand “Tante Enso”\, 19.02.22
DESCRIPTION:Die Teilhaberkampagne für den tante enso Supermarkt  in Gülzow geht auf die Zielgerade. Noch fehlen uns Teilhaber\, um die 300er Marke zu reißen. \nBürgermeister Schmahl und weitere tante enso-Paten informieren erneut am\n19. und 20. Februar zwischen 9 und 12 Uhr im MarktTreff! \ninfo 19 feb
URL:https://www.sh.digitale-doerfer.de/event/guelzow-infostand-tante-enso-19-02-22/
LOCATION:MarktTreff Gülzow\, Hauptstraße 21\, Gülzow\, Schleswig-Holstein\, 21483\, Deutschland
END:VEVENT
BEGIN:VEVENT
DTSTART;TZID=Europe/Berlin:20220213T090000
DTEND;TZID=Europe/Berlin:20220213T120000
DTSTAMP:20260422T015005
CREATED:20220209T102926Z
LAST-MODIFIED:20220209T102926Z
UID:21932-1644742800-1644753600@www.sh.digitale-doerfer.de
SUMMARY:Gülzow: Infostand “Tante Enso”\, 13.02.22
DESCRIPTION:Die Gemeindevertretung Gülzow laden zusammen mit Bürgermeister Schmahl alle interessierten Gülzower und Gülzowerinnen zu einem Austausch zum Supermarkt-Konzept “Tante Enso” ein. Vor dem MarktTreff Gülzow stehen die Tante Enso-Paten vormittags an einem Infostand für allerlei Fragen zum Projekt zur Verfügung! \nAnbei der offizielle Bürgermeisterbrief zu Tante Enso in Gülzow: \nBM Brief tante enso
URL:https://www.sh.digitale-doerfer.de/event/guelzow-infostand-tante-enso-13-02-22/
LOCATION:MarktTreff Gülzow\, Hauptstraße 21\, Gülzow\, Schleswig-Holstein\, 21483\, Deutschland
END:VEVENT
BEGIN:VEVENT
DTSTART;TZID=Europe/Berlin:20220212T090000
DTEND;TZID=Europe/Berlin:20220212T120000
DTSTAMP:20260422T015005
CREATED:20220209T102944Z
LAST-MODIFIED:20220209T102944Z
UID:21930-1644656400-1644667200@www.sh.digitale-doerfer.de
SUMMARY:Gülzow: Infostand “Tante Enso”\, 12.02.22
DESCRIPTION:Die Gemeindevertretung Gülzow laden zusammen mit Bürgermeister Schmahl alle interessierten Gülzower und Gülzowerinnen zu einem Austausch zum Supermarkt-Konzept “Tante Enso” ein. Vor dem MarktTreff Gülzow stehen die Tante Enso-Paten vormittags an einem Infostand für allerlei Fragen zum Projekt zur Verfügung! \nAnbei der offizielle Bürgermeisterbrief zu Tante Enso in Gülzow: \nBM Brief tante enso
URL:https://www.sh.digitale-doerfer.de/event/guelzow-infostand-tante-enso-12-02-22/
LOCATION:MarktTreff Gülzow\, Hauptstraße 21\, Gülzow\, Schleswig-Holstein\, 21483\, Deutschland
END:VEVENT
BEGIN:VEVENT
DTSTART;TZID=Europe/Berlin:20220206T090000
DTEND;TZID=Europe/Berlin:20220306T120000
DTSTAMP:20260422T015005
CREATED:20220204T092215Z
LAST-MODIFIED:20220204T092215Z
UID:21774-1644138000-1646568000@www.sh.digitale-doerfer.de
SUMMARY:Gülzow: Infostand "Tante Enso"\, 06.02.22
DESCRIPTION:Die Gemeindevertretung Gülzow laden zusammen mit Bürgermeister Schmahl alle interessierten Gülzower und Gülzowerinnen zu einem Austausch zum Supermarkt-Konzept „Tante Enso“ ein. Vor dem MarktTreff Gülzow stehen die Tante Enso-Paten vormittags an einem Infostand für allerlei Fragen zum Projekt zur Verfügung! \nAnbei der offizielle Bürgermeisterbrief zu Tante Enso in Gülzow: \nBM Brief tante enso
URL:https://www.sh.digitale-doerfer.de/event/guelzow-infostand-tante-enso-06-02-22/
LOCATION:MarktTreff Gülzow\, Hauptstraße 21\, Gülzow\, Schleswig-Holstein\, 21483\, Deutschland
END:VEVENT
BEGIN:VEVENT
DTSTART;TZID=Europe/Berlin:20220205T090000
DTEND;TZID=Europe/Berlin:20220205T120000
DTSTAMP:20260422T015005
CREATED:20220204T092206Z
LAST-MODIFIED:20220204T092206Z
UID:21771-1644051600-1644062400@www.sh.digitale-doerfer.de
SUMMARY:Gülzow: Infostand "Tante Enso"\, 05.02.22
DESCRIPTION:Die Gemeindevertretung Gülzow laden zusammen mit Bürgermeister Schmahl alle interessierten Gülzower und Gülzowerinnen zu einem Austausch zum Supermarkt-Konzept „Tante Enso“ ein. Vor dem MarktTreff Gülzow stehen die Tante Enso-Paten vormittags an einem Infostand für allerlei Fragen zum Projekt zur Verfügung! \nAnbei der offizielle Bürgermeisterbrief zu Tante Enso in Gülzow: \nBM Brief tante enso
URL:https://www.sh.digitale-doerfer.de/event/guelzow-infostand-tante-enso-05-02-22/
LOCATION:MarktTreff Gülzow\, Hauptstraße 21\, Gülzow\, Schleswig-Holstein\, 21483\, Deutschland
END:VEVENT
BEGIN:VEVENT
DTSTART;TZID=Europe/Berlin:20211224T143000
DTEND;TZID=Europe/Berlin:20211224T153000
DTSTAMP:20260422T015005
CREATED:20211223T071911Z
LAST-MODIFIED:20211223T071911Z
UID:20998-1640356200-1640359800@www.sh.digitale-doerfer.de
SUMMARY:Gottesdienst am Heiligabend in Pölitz
DESCRIPTION:„Eine neue Hoffnung“ \nFamiliengottesdienst am Heilgabend in Pölitz\nam 24. Dezember 2021\num 14:30 Uhr\nam Dorfgemeinschaftshaus\nmit Pastorin Anke Vagt\, Hannes Karl und einem Spiel der Konfis\n(Wir feiern draußen. Bringen Sie gerne Sitzgelegenheiten mit. Es gilt 3G mit Maske))
URL:https://www.sh.digitale-doerfer.de/event/gottesdienst-am-heiligabend-in-poelitz/
LOCATION:Gemeinschaftshaus Pölitz\, Schulstraße\, Pölitz\, Deutschland
END:VEVENT
BEGIN:VEVENT
DTSTART;TZID=Europe/Berlin:20211215T190000
DTEND;TZID=Europe/Berlin:20211215T210000
DTSTAMP:20260422T015005
CREATED:20211213T102253Z
LAST-MODIFIED:20211213T102253Z
UID:20676-1639594800-1639602000@www.sh.digitale-doerfer.de
SUMMARY:Gülzow: Öffentliche Sitzung der Gemeindevertretung\, 15.12.2021 um 19:00 Uhr
DESCRIPTION:Am Mittwoch\, den 15.12.2021 tagt um 19:00 Uhr in der Schützenhalle Gülzow die Gemeindevertretung der Gemeinde Gülzow. Interessierte aus der Gemeinde sind auch bei dieser öffentlichen Sitzung gerne gesehene Gäste. Zugang gilt ausschließlich unter Einhaltung der 3G-Regeln.\nAnbei das offizielle Einladungsschreiben: \nBekanntmachung GV 2021_12_15_0001
URL:https://www.sh.digitale-doerfer.de/event/guelzow-oeffentliche-sitzung-der-gemeindevertretung-15-12-2021-um-1900-uhr/
LOCATION:Schützenhalle Gülzow\, Mühlenweg 1\, Gülzow\, 21483\, Deutschland
END:VEVENT
BEGIN:VEVENT
DTSTART;TZID=Europe/Berlin:20211122T200000
DTEND;TZID=Europe/Berlin:20211122T220000
DTSTAMP:20260422T015005
CREATED:20211122T113736Z
LAST-MODIFIED:20211122T113736Z
UID:20154-1637611200-1637618400@www.sh.digitale-doerfer.de
SUMMARY:Eltern. Medien. Antworten. - am 22.11. Live auf Youtube
DESCRIPTION:Was ist Among Us? – Wie funktioniert TikTok? – Wie schütze ich meine Kinder vor Gefahren im Netz? Diese und ähnliche Fragen stellen sich viele Eltern. Fragen Sie uns. Zum dritten Mal geben wir Ihnen Antworten – live auf Youtube!\n\n\n\n\n\n\nSo funktioniert’s:\n\n\n\n\nSchreiben Sie uns jederzeit Ihre Fragen per Mail: elternfragen@akjs-sh.de\nAm 22.11.2021\, 20 Uhr: Öffnen Sie den Youtube-Kanal und klicken Sie auf den Live-Stream\nhttps://www.youtube.com/channel/UCZoOIfcqwzP4_bjSKjs5_Dg\nWir beantworten Ihre Fragen live – und Sie können im Chat nochmal nachfragen.\n\n\n\n\nDie Teilnahme ist kostenfrei und ohne Anmeldung möglich.\n\n\n\nELMA-Flyer-22-11-21_final
URL:https://www.sh.digitale-doerfer.de/event/eltern-medien-antworten-am-22-11-live-auf-youtube/
END:VEVENT
BEGIN:VEVENT
DTSTART;TZID=Europe/Berlin:20211121T090000
DTEND;TZID=Europe/Berlin:20211121T130000
DTSTAMP:20260422T015005
CREATED:20211111T091442Z
LAST-MODIFIED:20211111T091442Z
UID:19950-1637485200-1637499600@www.sh.digitale-doerfer.de
SUMMARY:Herbstputz in Blunk
DESCRIPTION:Herbstputz
URL:https://www.sh.digitale-doerfer.de/event/herbstputz-in-blunk/
END:VEVENT
BEGIN:VEVENT
DTSTART;TZID=Europe/Berlin:20211114T100000
DTEND;TZID=Europe/Berlin:20211114T110000
DTSTAMP:20260422T015005
CREATED:20211111T091434Z
LAST-MODIFIED:20211111T091434Z
UID:19933-1636884000-1636887600@www.sh.digitale-doerfer.de
SUMMARY:Volkstrauertag in Blunk
DESCRIPTION:Volkstrauertag in Blunk\n\n Sonntag 14.11.2021 \nWir werden uns am Sonntag\, den 14.11. 2021 um 10.00 Uhr am Ehrenmal treffen\, um an die Opfer der vergangenen Kriege zu Gedenken. \nUnsere Feuerwehr wird wieder einen Kranz zum Gedenken niederlegen und auch unsere Pastorin Elke Hoffmann wird dabei sein. \nIhre / Eure \nGemeindevertretung \nBürgermeisterin Wiebke Bock
URL:https://www.sh.digitale-doerfer.de/event/volkstrauertag-in-blunk/
END:VEVENT
BEGIN:VEVENT
DTSTART;TZID=Europe/Berlin:20211111T090000
DTEND;TZID=Europe/Berlin:20211111T103000
DTSTAMP:20260422T015005
CREATED:20211109T081216Z
LAST-MODIFIED:20211109T081216Z
UID:19858-1636621200-1636626600@www.sh.digitale-doerfer.de
SUMMARY:CoWorking Frühstück
DESCRIPTION:Was ist CoWorking?\nWie geht Remote-Work?\nWie fühlt sich so ein CoWorking-Space an? \nDiese und lauter andere Fragen wollen wir jeden Donnerstag um 9 Uhr beim gemeinsamen Frühstück beantworten. \nDas Treffen aus bestehende CoWorkende und alle die es vllt. werden wollen geben wir Kaffee- und Tee-Spezialitäten aus. Was zum Beißen bringen alle für sich selber mit. \nWer will darf auch gleich zum CoWorken da bleiben. Den ersten Tag in unserem CoWorking-Space schenken wir dir. \n— \nEine Anmeldung hier oder per E-Mail ist hilfreich für die Planung. Danke dafür 🙏\nEs gilt die 3G-Regel.
URL:https://www.sh.digitale-doerfer.de/event/coworking-fruehstueck/
LOCATION:CoWorking Schlei\, Möhlenstraat 7\, Boren OT Kiesby\, 24392\, Deutschland
ATTACH;FMTTYPE=image/jpeg:https://www.sh.digitale-doerfer.de/wp-content/uploads/2021/11/clean_499583455.jpeg
ORGANIZER;CN="CoWorking Schei":MAILTO:moin@cowrking-schlei.de
END:VEVENT
BEGIN:VEVENT
DTSTART;TZID=Europe/Berlin:20211106T080000
DTEND;TZID=Europe/Berlin:20211121T200000
DTSTAMP:20260422T015005
CREATED:20211108T094008Z
LAST-MODIFIED:20211108T122142Z
UID:19819-1636185600-1637524800@www.sh.digitale-doerfer.de
SUMMARY:Online-Befragung für jeden Bürger und Bürgerin
DESCRIPTION:211102_Aushang_Online-Befragung Bevölkerung_IES Holsteins Herz\n 
URL:https://www.sh.digitale-doerfer.de/event/online-befragung-fuer-jeden-buerger-und-buergerin/
END:VEVENT
BEGIN:VEVENT
DTSTART;TZID=Europe/Berlin:20211030T110000
DTEND;TZID=Europe/Berlin:20211030T150000
DTSTAMP:20260422T015005
CREATED:20211025T081443Z
LAST-MODIFIED:20211026T092604Z
UID:19525-1635591600-1635606000@www.sh.digitale-doerfer.de
SUMMARY:CoWorking-Space in Blunk
DESCRIPTION:Einladung-Tag-der-offenen-Tuer-d8a9ced33960-1\n 
URL:https://www.sh.digitale-doerfer.de/event/coworking-space-in-blunk/
LOCATION:Landhaus Schulze-Hamann\, Segeberger Str. 32\, 23813 Blunk\, Schleswig-Holstein\, Deutschland
END:VEVENT
BEGIN:VEVENT
DTSTART;TZID=Europe/Berlin:20211029T190000
DTEND;TZID=Europe/Berlin:20211029T210000
DTSTAMP:20260422T015005
CREATED:20211020T072227Z
LAST-MODIFIED:20211020T072228Z
UID:19385-1635534000-1635541200@www.sh.digitale-doerfer.de
SUMMARY:Gülzow: Laternenumzug 2021 am 29. Oktober!
DESCRIPTION:Auch in diesem Jahr trotzt die Freiwillige Feuerwehr zusammen mit Jung und Alt der Dunkelheit mit Laternenlicht und Musik! \nAnbei die offzielle Einladung: \nLaternenumzug 2021
URL:https://www.sh.digitale-doerfer.de/event/guelzow-laternenumzug-2021-am-29-oktober/
LOCATION:Evangelische Schule Gülzow\, Schloßstraße 7\, Gülzow\, 21483\, Deutschland
END:VEVENT
BEGIN:VEVENT
DTSTART;TZID=Europe/Berlin:20211028T190000
DTEND;TZID=Europe/Berlin:20211028T210000
DTSTAMP:20260422T015005
CREATED:20211025T081228Z
LAST-MODIFIED:20211025T081228Z
UID:19540-1635447600-1635454800@www.sh.digitale-doerfer.de
SUMMARY:Gülzow: Öffentliche Sitzung der Gemeindevertretung\, 28.10.2021 um 19:00 Uhr
DESCRIPTION:Am Donnerstag\, den 28.10.2021 tagt um 19:00 Uhr in der Schützenhalle Gülzow die Gemeindevertretung der Gemeinde Gülzow. Interessierte aus der Gemeinde sind auch bei dieser öffentlichen Sitzung gerne gesehene Gäste.\nAnbei das offizielle Einladungsschreiben: \nEinladung_HP-GV-Guelzow_10.2021
URL:https://www.sh.digitale-doerfer.de/event/guelzow-oeffentliche-sitzung-der-gemeindevertretung-28-10-2021-um-1900-uhr/
LOCATION:Schützenhalle Gülzow\, Mühlenweg 1\, Gülzow\, 21483\, Deutschland
END:VEVENT
BEGIN:VEVENT
DTSTART;TZID=Europe/Berlin:20211026T190000
DTEND;TZID=Europe/Berlin:20211026T210000
DTSTAMP:20260422T015005
CREATED:20211025T081218Z
LAST-MODIFIED:20211025T081218Z
UID:19416-1635274800-1635282000@www.sh.digitale-doerfer.de
SUMMARY:Gülzow: Öffentliche Sitzung des Ausschusses für Öffentliche Einrichtungen\, Energie und Digitalisierung\, 26.10.2021 um 19:00 Uhr
DESCRIPTION:Am Dienstag\, den 26.10.2021 tagt um 19:00 Uhr in der Schützenhalle Gülzow der Ausschuss für Öffentliche Einrichtungen\, Energie und Digitalisierung. Interessierte aus der Gemeinde sind auch bei dieser öffentlichen Sitzung gerne gesehene Gäste.\nAnbei das offizielle Bekanntmachungsschreiben: \nBekanntmachung_Ausschuss-ÖEED_2021_KW43
URL:https://www.sh.digitale-doerfer.de/event/guelzow-oeffentliche-sitzung-des-ausschusses-fuer-oeffentliche-einrichtungen-energie-und-digitalisierung-26-10-2021-um-1900-uhr/
LOCATION:Schützenhalle Gülzow\, Mühlenweg 1\, Gülzow\, 21483\, Deutschland
END:VEVENT
BEGIN:VEVENT
DTSTART;TZID=Europe/Berlin:20210928T190000
DTEND;TZID=Europe/Berlin:20210928T210000
DTSTAMP:20260422T015005
CREATED:20210927T065939Z
LAST-MODIFIED:20210927T065939Z
UID:19049-1632855600-1632862800@www.sh.digitale-doerfer.de
SUMMARY:Gülzow: “Öffentliche Sitzung des Ausschusses für Umwelt\, Wege und Landschaftspflege”\, 28.09.2021 um 19:00 Uhr
DESCRIPTION:Am Dienstag\, den 28.09.2021 tagt um 19:00 Uhr in der Schützenhalle Gülzow der Ausschuss für Umwelt\, Wege und Landschaftspflege. Interessierte aus der Gemeinde sind auch bei dieser öffentlichen Sitzung gerne gesehene Gäste.\nAnbei das offizielle Bekanntmachungsschreiben: \nUWL 2021_09_28
URL:https://www.sh.digitale-doerfer.de/event/guelzow-oeffentliche-sitzung-des-ausschusses-fuer-umwelt-wege-und-landschaftspflege-28-09-2021-um-1900-uhr/
LOCATION:Schützenhalle Gülzow\, Mühlenweg 1\, Gülzow\, 21483\, Deutschland
END:VEVENT
BEGIN:VEVENT
DTSTART;TZID=Europe/Berlin:20210927T190000
DTEND;TZID=Europe/Berlin:20210927T210000
DTSTAMP:20260422T015005
CREATED:20210927T065954Z
LAST-MODIFIED:20210927T065954Z
UID:19037-1632769200-1632776400@www.sh.digitale-doerfer.de
SUMMARY:Gülzow: "Öffentliche Sitzung des Ausschusses für Soziales"\, 27.09.2021 um 19:00 Uhr
DESCRIPTION:Am Montag\, den 27.09.2021 tagt um 19:00 Uhr in der Schützenhalle Gülzow der Ausschuss für Soziales. Interessierte aus der Gemeinde sind auch bei dieser öffentlichen Sitzung gerne gesehene Gäste. Anbei das offizielle Bekanntmachungsschreiben: \nAfS 2021_09_27
URL:https://www.sh.digitale-doerfer.de/event/guelzow-oeffentliche-sitzung-des-ausschusses-fuer-soziales-27-09-2021-um-1900-uhr/
LOCATION:Schützenhalle Gülzow\, Mühlenweg 1\, Gülzow\, 21483\, Deutschland
END:VEVENT
END:VCALENDAR