BEGIN:VCALENDAR
VERSION:2.0
PRODID:-//DorfFunk SH - ECPv6.15.20//NONSGML v1.0//EN
CALSCALE:GREGORIAN
METHOD:PUBLISH
X-WR-CALNAME:DorfFunk SH
X-ORIGINAL-URL:https://www.sh.digitale-doerfer.de
X-WR-CALDESC:Veranstaltungen im DorfFunk SH
REFRESH-INTERVAL;VALUE=DURATION:PT1H
X-Robots-Tag:noindex
X-PUBLISHED-TTL:PT1H
BEGIN:VTIMEZONE
TZID:Europe/Berlin
BEGIN:DAYLIGHT
TZOFFSETFROM:+0100
TZOFFSETTO:+0200
TZNAME:CEST
DTSTART:20200329T010000
END:DAYLIGHT
BEGIN:STANDARD
TZOFFSETFROM:+0200
TZOFFSETTO:+0100
TZNAME:CET
DTSTART:20201025T010000
END:STANDARD
BEGIN:DAYLIGHT
TZOFFSETFROM:+0100
TZOFFSETTO:+0200
TZNAME:CEST
DTSTART:20210328T010000
END:DAYLIGHT
BEGIN:STANDARD
TZOFFSETFROM:+0200
TZOFFSETTO:+0100
TZNAME:CET
DTSTART:20211031T010000
END:STANDARD
BEGIN:DAYLIGHT
TZOFFSETFROM:+0100
TZOFFSETTO:+0200
TZNAME:CEST
DTSTART:20220327T010000
END:DAYLIGHT
BEGIN:STANDARD
TZOFFSETFROM:+0200
TZOFFSETTO:+0100
TZNAME:CET
DTSTART:20221030T010000
END:STANDARD
END:VTIMEZONE
BEGIN:VEVENT
DTSTART;TZID=Europe/Berlin:20211030T110000
DTEND;TZID=Europe/Berlin:20211030T150000
DTSTAMP:20260424T042912
CREATED:20211025T081443Z
LAST-MODIFIED:20211026T092604Z
UID:19525-1635591600-1635606000@www.sh.digitale-doerfer.de
SUMMARY:CoWorking-Space in Blunk
DESCRIPTION:Einladung-Tag-der-offenen-Tuer-d8a9ced33960-1\n 
URL:https://www.sh.digitale-doerfer.de/event/coworking-space-in-blunk/
LOCATION:Landhaus Schulze-Hamann\, Segeberger Str. 32\, 23813 Blunk\, Schleswig-Holstein\, Deutschland
END:VEVENT
BEGIN:VEVENT
DTSTART;TZID=Europe/Berlin:20211029T190000
DTEND;TZID=Europe/Berlin:20211029T210000
DTSTAMP:20260424T042912
CREATED:20211020T072227Z
LAST-MODIFIED:20211020T072228Z
UID:19385-1635534000-1635541200@www.sh.digitale-doerfer.de
SUMMARY:Gülzow: Laternenumzug 2021 am 29. Oktober!
DESCRIPTION:Auch in diesem Jahr trotzt die Freiwillige Feuerwehr zusammen mit Jung und Alt der Dunkelheit mit Laternenlicht und Musik! \nAnbei die offzielle Einladung: \nLaternenumzug 2021
URL:https://www.sh.digitale-doerfer.de/event/guelzow-laternenumzug-2021-am-29-oktober/
LOCATION:Evangelische Schule Gülzow\, Schloßstraße 7\, Gülzow\, 21483\, Deutschland
END:VEVENT
BEGIN:VEVENT
DTSTART;TZID=Europe/Berlin:20211028T190000
DTEND;TZID=Europe/Berlin:20211028T210000
DTSTAMP:20260424T042912
CREATED:20211025T081228Z
LAST-MODIFIED:20211025T081228Z
UID:19540-1635447600-1635454800@www.sh.digitale-doerfer.de
SUMMARY:Gülzow: Öffentliche Sitzung der Gemeindevertretung\, 28.10.2021 um 19:00 Uhr
DESCRIPTION:Am Donnerstag\, den 28.10.2021 tagt um 19:00 Uhr in der Schützenhalle Gülzow die Gemeindevertretung der Gemeinde Gülzow. Interessierte aus der Gemeinde sind auch bei dieser öffentlichen Sitzung gerne gesehene Gäste.\nAnbei das offizielle Einladungsschreiben: \nEinladung_HP-GV-Guelzow_10.2021
URL:https://www.sh.digitale-doerfer.de/event/guelzow-oeffentliche-sitzung-der-gemeindevertretung-28-10-2021-um-1900-uhr/
LOCATION:Schützenhalle Gülzow\, Mühlenweg 1\, Gülzow\, 21483\, Deutschland
END:VEVENT
BEGIN:VEVENT
DTSTART;TZID=Europe/Berlin:20211026T190000
DTEND;TZID=Europe/Berlin:20211026T210000
DTSTAMP:20260424T042912
CREATED:20211025T081218Z
LAST-MODIFIED:20211025T081218Z
UID:19416-1635274800-1635282000@www.sh.digitale-doerfer.de
SUMMARY:Gülzow: Öffentliche Sitzung des Ausschusses für Öffentliche Einrichtungen\, Energie und Digitalisierung\, 26.10.2021 um 19:00 Uhr
DESCRIPTION:Am Dienstag\, den 26.10.2021 tagt um 19:00 Uhr in der Schützenhalle Gülzow der Ausschuss für Öffentliche Einrichtungen\, Energie und Digitalisierung. Interessierte aus der Gemeinde sind auch bei dieser öffentlichen Sitzung gerne gesehene Gäste.\nAnbei das offizielle Bekanntmachungsschreiben: \nBekanntmachung_Ausschuss-ÖEED_2021_KW43
URL:https://www.sh.digitale-doerfer.de/event/guelzow-oeffentliche-sitzung-des-ausschusses-fuer-oeffentliche-einrichtungen-energie-und-digitalisierung-26-10-2021-um-1900-uhr/
LOCATION:Schützenhalle Gülzow\, Mühlenweg 1\, Gülzow\, 21483\, Deutschland
END:VEVENT
BEGIN:VEVENT
DTSTART;TZID=Europe/Berlin:20210928T190000
DTEND;TZID=Europe/Berlin:20210928T210000
DTSTAMP:20260424T042912
CREATED:20210927T065939Z
LAST-MODIFIED:20210927T065939Z
UID:19049-1632855600-1632862800@www.sh.digitale-doerfer.de
SUMMARY:Gülzow: “Öffentliche Sitzung des Ausschusses für Umwelt\, Wege und Landschaftspflege”\, 28.09.2021 um 19:00 Uhr
DESCRIPTION:Am Dienstag\, den 28.09.2021 tagt um 19:00 Uhr in der Schützenhalle Gülzow der Ausschuss für Umwelt\, Wege und Landschaftspflege. Interessierte aus der Gemeinde sind auch bei dieser öffentlichen Sitzung gerne gesehene Gäste.\nAnbei das offizielle Bekanntmachungsschreiben: \nUWL 2021_09_28
URL:https://www.sh.digitale-doerfer.de/event/guelzow-oeffentliche-sitzung-des-ausschusses-fuer-umwelt-wege-und-landschaftspflege-28-09-2021-um-1900-uhr/
LOCATION:Schützenhalle Gülzow\, Mühlenweg 1\, Gülzow\, 21483\, Deutschland
END:VEVENT
BEGIN:VEVENT
DTSTART;TZID=Europe/Berlin:20210927T190000
DTEND;TZID=Europe/Berlin:20210927T210000
DTSTAMP:20260424T042912
CREATED:20210927T065954Z
LAST-MODIFIED:20210927T065954Z
UID:19037-1632769200-1632776400@www.sh.digitale-doerfer.de
SUMMARY:Gülzow: "Öffentliche Sitzung des Ausschusses für Soziales"\, 27.09.2021 um 19:00 Uhr
DESCRIPTION:Am Montag\, den 27.09.2021 tagt um 19:00 Uhr in der Schützenhalle Gülzow der Ausschuss für Soziales. Interessierte aus der Gemeinde sind auch bei dieser öffentlichen Sitzung gerne gesehene Gäste. Anbei das offizielle Bekanntmachungsschreiben: \nAfS 2021_09_27
URL:https://www.sh.digitale-doerfer.de/event/guelzow-oeffentliche-sitzung-des-ausschusses-fuer-soziales-27-09-2021-um-1900-uhr/
LOCATION:Schützenhalle Gülzow\, Mühlenweg 1\, Gülzow\, 21483\, Deutschland
END:VEVENT
BEGIN:VEVENT
DTSTART;TZID=Europe/Berlin:20210923T193000
DTEND;TZID=Europe/Berlin:20210923T220000
DTSTAMP:20260424T042912
CREATED:20210903T094759Z
LAST-MODIFIED:20210908T115754Z
UID:18621-1632425400-1632434400@www.sh.digitale-doerfer.de
SUMMARY:Wein-Kultur in Damp
DESCRIPTION:WeinKULToUR_Damp_1
URL:https://www.sh.digitale-doerfer.de/event/wein-kultur-in-damp/
ORGANIZER;CN="VHS Damp":MAILTO:vhs-damp@Amt-Schlei-Ostsee.de
END:VEVENT
BEGIN:VEVENT
DTSTART;TZID=Europe/Berlin:20210905T093000
DTEND;TZID=Europe/Berlin:20210905T150000
DTSTAMP:20260424T042912
CREATED:20210809T073559Z
LAST-MODIFIED:20210809T073559Z
UID:18183-1630834200-1630854000@www.sh.digitale-doerfer.de
SUMMARY:Dorfflohmarkt in Blunk
DESCRIPTION:Dorfflohmarkt
URL:https://www.sh.digitale-doerfer.de/event/dorfflohmarkt-in-blunk/
END:VEVENT
BEGIN:VEVENT
DTSTART;TZID=Europe/Berlin:20210625T160000
DTEND;TZID=Europe/Berlin:20210625T173000
DTSTAMP:20260424T042912
CREATED:20210616T063526Z
LAST-MODIFIED:20210616T063526Z
UID:17238-1624636800-1624642200@www.sh.digitale-doerfer.de
SUMMARY:Vortragsreihe: Gesundheit geht durch den Magen
DESCRIPTION:Kinder\, Kinder – was brauchen sie eigentlich wirklich? \nAktuelle Ernährungsempfehlungen von Silke Zur \nBildung ZUR Gesundheit\nwww.bildungzurgesundheit.de
URL:https://www.sh.digitale-doerfer.de/event/vortragsreihe-gesundheit-geht-durch-den-magen/
LOCATION:Familienzentrum Damp & rundum\, Auf der Höhe 16\, Vogelsang-Grünholz\, Schleswig-Holstein\, 24351
ORGANIZER;CN="Familienzentrum Damp &amp%3B rundum":MAILTO:info@familienzentrum-damp.de
END:VEVENT
END:VCALENDAR