BEGIN:VCALENDAR
VERSION:2.0
PRODID:-//DorfFunk SH - ECPv6.15.20//NONSGML v1.0//EN
CALSCALE:GREGORIAN
METHOD:PUBLISH
X-WR-CALNAME:DorfFunk SH
X-ORIGINAL-URL:https://www.sh.digitale-doerfer.de
X-WR-CALDESC:Veranstaltungen im DorfFunk SH
REFRESH-INTERVAL;VALUE=DURATION:PT1H
X-Robots-Tag:noindex
X-PUBLISHED-TTL:PT1H
BEGIN:VTIMEZONE
TZID:Europe/Berlin
BEGIN:DAYLIGHT
TZOFFSETFROM:+0100
TZOFFSETTO:+0200
TZNAME:CEST
DTSTART:20220327T010000
END:DAYLIGHT
BEGIN:STANDARD
TZOFFSETFROM:+0200
TZOFFSETTO:+0100
TZNAME:CET
DTSTART:20221030T010000
END:STANDARD
BEGIN:DAYLIGHT
TZOFFSETFROM:+0100
TZOFFSETTO:+0200
TZNAME:CEST
DTSTART:20230326T010000
END:DAYLIGHT
BEGIN:STANDARD
TZOFFSETFROM:+0200
TZOFFSETTO:+0100
TZNAME:CET
DTSTART:20231029T010000
END:STANDARD
BEGIN:DAYLIGHT
TZOFFSETFROM:+0100
TZOFFSETTO:+0200
TZNAME:CEST
DTSTART:20240331T010000
END:DAYLIGHT
BEGIN:STANDARD
TZOFFSETFROM:+0200
TZOFFSETTO:+0100
TZNAME:CET
DTSTART:20241027T010000
END:STANDARD
END:VTIMEZONE
BEGIN:VEVENT
DTSTART;TZID=Europe/Berlin:20230209T193000
DTEND;TZID=Europe/Berlin:20230209T204500
DTSTAMP:20260421T135055
CREATED:20230203T145622Z
LAST-MODIFIED:20230203T145622Z
UID:32000-1675971000-1675975500@www.sh.digitale-doerfer.de
SUMMARY:Wachstumsgrenzen im Tourismus und Kippen am Strand
DESCRIPTION:Um Wachstumsgrenzen im Tourismus und einen Rückblick auf die vergangene Saison geht es in einem Vortrag von Max Tripphaus\, Geschäftsführer der Ostseefjordschlei GmbH\, in der öffentlichen Sitzung des Tourismus-Fachausschusses der Gemeinde Damp am Donnerstag\, 9. Februar\, 19.30 Uhr im Amtsgebäude Auf der Höhe 16. \nZudem wird Ressortmanager Jörg Dittrich über die Entwicklung des Tourismus 2022/23 im OstseeResort Damp berichten. Zudem wird über die Vermeidung von Zigarettenkippen am Strand diskutiert. Diesen Punkten geht eine Einwohnerfragestunde voraus.
URL:https://www.sh.digitale-doerfer.de/event/wachstumsgrenzen-im-tourismus-und-kippen-am-strand/
LOCATION:Amtsgebäude Auf der Höhe 16 | Vogelsang-Grünholz
END:VEVENT
END:VCALENDAR